BEGIN:VCALENDAR
VERSION:2.0
PRODID:-//SciLifeLab - ECPv6.15.20//NONSGML v1.0//EN
CALSCALE:GREGORIAN
METHOD:PUBLISH
X-WR-CALNAME:SciLifeLab
X-ORIGINAL-URL:https://www.scilifelab.se
X-WR-CALDESC:Events for SciLifeLab
REFRESH-INTERVAL;VALUE=DURATION:PT1H
X-Robots-Tag:noindex
X-PUBLISHED-TTL:PT1H
BEGIN:VTIMEZONE
TZID:Europe/Stockholm
BEGIN:DAYLIGHT
TZOFFSETFROM:+0100
TZOFFSETTO:+0200
TZNAME:CEST
DTSTART:20230326T010000
END:DAYLIGHT
BEGIN:STANDARD
TZOFFSETFROM:+0200
TZOFFSETTO:+0100
TZNAME:CET
DTSTART:20231029T010000
END:STANDARD
BEGIN:DAYLIGHT
TZOFFSETFROM:+0100
TZOFFSETTO:+0200
TZNAME:CEST
DTSTART:20240331T010000
END:DAYLIGHT
BEGIN:STANDARD
TZOFFSETFROM:+0200
TZOFFSETTO:+0100
TZNAME:CET
DTSTART:20241027T010000
END:STANDARD
BEGIN:DAYLIGHT
TZOFFSETFROM:+0100
TZOFFSETTO:+0200
TZNAME:CEST
DTSTART:20250330T010000
END:DAYLIGHT
BEGIN:STANDARD
TZOFFSETFROM:+0200
TZOFFSETTO:+0100
TZNAME:CET
DTSTART:20251026T010000
END:STANDARD
END:VTIMEZONE
BEGIN:VEVENT
DTSTART;TZID=Europe/Stockholm:20240521T120000
DTEND;TZID=Europe/Stockholm:20240521T130000
DTSTAMP:20260421T062848
CREATED:20240507T095644Z
LAST-MODIFIED:20240507T100517Z
UID:167318-1716292800-1716296400@www.scilifelab.se
SUMMARY:3D/4D X-ray Microtomography: Insight into materials critical for the green transition
DESCRIPTION:In the frame of the “SciLifeLab Site Umeå / KBC Infrastructure Seminar Series”\, the seminars will be organised every second Tuesday during spring 2024. The seminars will be held in a hybrid format – IRL in Glasburen\, KBC\, Umeå\, and online via Zoom. \n\n\n\nRead more about the Seminar Series\n\n\n\nOn 21 May\, at 12:00\, SciLifeLab Site Umeå / KBC Infrastructure Seminar Series presents: \n\n\n\n3D/4D X-ray Microtomography: Insight into materials critical for the green transition\n\n\n\nPresenter: Fredrik Forsberg\, Senior Lecturer\, Luleå University of Technology\, Div. Fluid and Experimental Mechanics \n\n\n\nDescription: A seminar about high-resolution x-ray microtomography (XCT) and how it can be used for 3D/4D material and process characterisation to support the green transition. During the seminar selected applications will be presented from studies at the X-ray Microtomography Lab at LTU (using a Zeiss Xradia 620 Versa XRM) and using synchrotron tomography. For example\, studies of modified wood for increased moisture resistance\, studies on hydrogen and CO2 storage in porous bedrock\, and studies of minerals critical for the green transition. The seminar ends with a look at future possibilities with Dynamic and Spectral XCT – a new XCT system that soon will be available at LTU. \n\n\n\nRead more and Register
URL:https://www.scilifelab.se/event/3d-4d-x-ray-microtomography-insight-into-materials-critical-for-the-green-transition/
CATEGORIES:Event
ATTACH;FMTTYPE=image/jpeg:https://www.scilifelab.se/wp-content/uploads/2024/05/SciLifeLab-Site-Umea-seminar-scaled.jpg
ORGANIZER;CN="SciLifeLab Ume%C3%A5":MAILTO:umea@scilifelab.se
END:VEVENT
END:VCALENDAR