BEGIN:VCALENDAR
VERSION:2.0
PRODID:-//SciLifeLab - ECPv6.15.20//NONSGML v1.0//EN
CALSCALE:GREGORIAN
METHOD:PUBLISH
X-WR-CALNAME:SciLifeLab
X-ORIGINAL-URL:https://www.scilifelab.se
X-WR-CALDESC:Events for SciLifeLab
REFRESH-INTERVAL;VALUE=DURATION:PT1H
X-Robots-Tag:noindex
X-PUBLISHED-TTL:PT1H
BEGIN:VTIMEZONE
TZID:Europe/Stockholm
BEGIN:DAYLIGHT
TZOFFSETFROM:+0100
TZOFFSETTO:+0200
TZNAME:CEST
DTSTART:20240331T010000
END:DAYLIGHT
BEGIN:STANDARD
TZOFFSETFROM:+0200
TZOFFSETTO:+0100
TZNAME:CET
DTSTART:20241027T010000
END:STANDARD
BEGIN:DAYLIGHT
TZOFFSETFROM:+0100
TZOFFSETTO:+0200
TZNAME:CEST
DTSTART:20250330T010000
END:DAYLIGHT
BEGIN:STANDARD
TZOFFSETFROM:+0200
TZOFFSETTO:+0100
TZNAME:CET
DTSTART:20251026T010000
END:STANDARD
BEGIN:DAYLIGHT
TZOFFSETFROM:+0100
TZOFFSETTO:+0200
TZNAME:CEST
DTSTART:20260329T010000
END:DAYLIGHT
BEGIN:STANDARD
TZOFFSETFROM:+0200
TZOFFSETTO:+0100
TZNAME:CET
DTSTART:20261025T010000
END:STANDARD
END:VTIMEZONE
BEGIN:VEVENT
DTSTART;TZID=Europe/Stockholm:20250318T130000
DTEND;TZID=Europe/Stockholm:20250318T150000
DTSTAMP:20260421T152546
CREATED:20250310T074245Z
LAST-MODIFIED:20250310T094924Z
UID:182610-1742302800-1742310000@www.scilifelab.se
SUMMARY:Advancing biomarker discovery with innovative omics technologies
DESCRIPTION:Takara Bio Europe\, in collaboration with Clinical Genomics Gothenburg\, invites you to explore their latest NGS technologies\, enjoy insightful talks from guest speakers\, and discover how their innovations are driving cutting-edge research! \n\n\n\nAgenda and speakers\n\n\n\n\n\n\n\n\n\n\n\nDr Joan Camuñas-SolerAssistant Professor\, Dept. of Medical Biochemistry & Cell Biology\, WallenbergCenter for Molecular and Translational Medicine\, University of Gothenburg• Predictive RNA profiles for lung involvement in systemic sclerosis \n\n\n\n\n\n\n\n\n\n\n\n\n\nDr Florian PaaschNGS Sales Specialist\, Takara Bio Europe• Total RNA-seq from clinical samples \n\n\n\n\n\n\n\n\n\n\n\n\n\nDr Matthieu PesantSr Market Strategy Manager\, Translational Genomics\, Takara Bio Europe• New single-cell omics technologies for biomarker discovery• Enabling long-read mRNA-seq for biomarker discovery using limited clinical sample inputs \n\n\n\n\n\nRegistration\n\n\n\nRegister here: Takara Bio | NGS Innovation TourOnline participation via Teams is possible. Please\, contact Beatrice Westman (beatrice_westman@takarabio.com) for the link.
URL:https://www.scilifelab.se/event/advancing-biomarker-discovery-with-innovative-omics-technologies/
LOCATION:Birgit Thilander Lecture Hall\, Medicinaregatan 3\, Göteborg
CATEGORIES:Event
END:VEVENT
END:VCALENDAR