BEGIN:VCALENDAR
VERSION:2.0
PRODID:-//SciLifeLab - ECPv6.15.20//NONSGML v1.0//EN
CALSCALE:GREGORIAN
METHOD:PUBLISH
X-WR-CALNAME:SciLifeLab
X-ORIGINAL-URL:https://www.scilifelab.se
X-WR-CALDESC:Events for SciLifeLab
REFRESH-INTERVAL;VALUE=DURATION:PT1H
X-Robots-Tag:noindex
X-PUBLISHED-TTL:PT1H
BEGIN:VTIMEZONE
TZID:Europe/Stockholm
BEGIN:DAYLIGHT
TZOFFSETFROM:+0100
TZOFFSETTO:+0200
TZNAME:CEST
DTSTART:20240331T010000
END:DAYLIGHT
BEGIN:STANDARD
TZOFFSETFROM:+0200
TZOFFSETTO:+0100
TZNAME:CET
DTSTART:20241027T010000
END:STANDARD
BEGIN:DAYLIGHT
TZOFFSETFROM:+0100
TZOFFSETTO:+0200
TZNAME:CEST
DTSTART:20250330T010000
END:DAYLIGHT
BEGIN:STANDARD
TZOFFSETFROM:+0200
TZOFFSETTO:+0100
TZNAME:CET
DTSTART:20251026T010000
END:STANDARD
BEGIN:DAYLIGHT
TZOFFSETFROM:+0100
TZOFFSETTO:+0200
TZNAME:CEST
DTSTART:20260329T010000
END:DAYLIGHT
BEGIN:STANDARD
TZOFFSETFROM:+0200
TZOFFSETTO:+0100
TZNAME:CET
DTSTART:20261025T010000
END:STANDARD
END:VTIMEZONE
BEGIN:VEVENT
DTSTART;TZID=Europe/Stockholm:20250127T150000
DTEND;TZID=Europe/Stockholm:20250127T170000
DTSTAMP:20260421T155228
CREATED:20250110T073100Z
LAST-MODIFIED:20250121T104411Z
UID:178301-1737990000-1737997200@www.scilifelab.se
SUMMARY:Advancing Network Biology: The launch of FunCoup 6
DESCRIPTION:Network biology is a new paradigm to understand the complex interactions of the molecules in an organism using an integrative and systems approach. By applying network analysis in their research\, scientists can e.g. generate new hypotheses of molecular mechanisms\, perform functional annotation of network modules\, or predict new drug targets. \n\n\n\nThe comprehensive network database FunCoup (https://FunCoup.org/) is a resource that can be used to answer various research questions at the systems biology level. The new release 6 (http://www.ncbi.nlm.nih.gov/pubmed/39530220/) is a major update to the FunCoup networks and website\, which provides researchers with significantly improved capabilities for exploring the functional coupling interactome. The key innovations include: \n\n\n\n\nIncreased regulatory coverage: FunCoup 6 now includes over half a million directed gene regulatory links in the human network alone\, offering expanded insights into transcriptional regulation. \n\n\n\nIncreased coverage to 640 species in total.\n\n\n\nNew\, redesigned website with enhanced API functionalities.\n\n\n\nAdvanced integrated tools for network analysis: TOPAS for disease module identification\, ANUBIX for pathway enrichment analysis\, and Maxlink for disease gene prioritization.\n\n\n\nNew comparative interactomics search mode that queries each species network independently.\n\n\n\n\nFunCoup is also available as a Cytoscape app\, and was shown to exhibit superior performance compared to other functional association networks.  At this event\, the new FunCoup website and its unique capabilities for network exploration and analysis will be demonstrated.
URL:https://www.scilifelab.se/event/advancing-network-biology-the-launch-of-funcoup-6/
LOCATION:Gamma 2 Lunchroom\, SciLifeLab\, Tomtebodavägen 23\, Solna\, Sweden
CATEGORIES:Event
END:VEVENT
END:VCALENDAR