BEGIN:VCALENDAR
VERSION:2.0
PRODID:-//SciLifeLab - ECPv6.15.20//NONSGML v1.0//EN
CALSCALE:GREGORIAN
METHOD:PUBLISH
X-WR-CALNAME:SciLifeLab
X-ORIGINAL-URL:https://www.scilifelab.se
X-WR-CALDESC:Events for SciLifeLab
REFRESH-INTERVAL;VALUE=DURATION:PT1H
X-Robots-Tag:noindex
X-PUBLISHED-TTL:PT1H
BEGIN:VTIMEZONE
TZID:Europe/Stockholm
BEGIN:DAYLIGHT
TZOFFSETFROM:+0100
TZOFFSETTO:+0200
TZNAME:CEST
DTSTART:20210328T010000
END:DAYLIGHT
BEGIN:STANDARD
TZOFFSETFROM:+0200
TZOFFSETTO:+0100
TZNAME:CET
DTSTART:20211031T010000
END:STANDARD
BEGIN:DAYLIGHT
TZOFFSETFROM:+0100
TZOFFSETTO:+0200
TZNAME:CEST
DTSTART:20220327T010000
END:DAYLIGHT
BEGIN:STANDARD
TZOFFSETFROM:+0200
TZOFFSETTO:+0100
TZNAME:CET
DTSTART:20221030T010000
END:STANDARD
BEGIN:DAYLIGHT
TZOFFSETFROM:+0100
TZOFFSETTO:+0200
TZNAME:CEST
DTSTART:20230326T010000
END:DAYLIGHT
BEGIN:STANDARD
TZOFFSETFROM:+0200
TZOFFSETTO:+0100
TZNAME:CET
DTSTART:20231029T010000
END:STANDARD
END:VTIMEZONE
BEGIN:VEVENT
DTSTART;TZID=Europe/Stockholm:20221129T090000
DTEND;TZID=Europe/Stockholm:20221129T163000
DTSTAMP:20260423T053947
CREATED:20220923T175028Z
LAST-MODIFIED:20221128T154333Z
UID:143699-1669712400-1669739400@www.scilifelab.se
SUMMARY:Ancient DNA symposium
DESCRIPTION:SciLifeLab Ancient DNA. Photo. Mikael Wallerstedt.\n\n\n\nThe possibility of studying humans\, animals\, plants\, and other forms of life that lived in the past using DNA analysis is providing new insight into history\, often with important implications for understanding our contemporary world. Ancient DNA can support investigation of e.g. prehistoric migrations and interactions\, cultural practices\, and development of agriculture\, as well as research into evolution\, ecology\, and biodiversity. \n\n\n\nThis symposium is organized to present the forefront and breadth of ancient DNA analysis and its value in context of other information in order to facilitate cross-disciplinary projects. \n\n\n\nThe event is organized by the Centre for Palaeogenetics at Stockholm University and Swedish Museum of Natural History\, in collaboration with SciLifeLab Ancient DNA unit and the National Genomics Infrastructure. \n\n\n\nThe symposium is free of charge. Deadline for registration is November 18th for on-site participation. \n\n\n\nDuring the coffee breaks\, representatives of SciLifeLab Ancient DNA unit\, the National Genomics Infrastructure (NGI)\, and the National Bioinformatics Infrastructure Sweden (NBIS) are available for project discussions. \n\n\n\nIf you are unable to join the meeting physically\, you can take part in all presentations online. Please register below to receive the link. \n\n\n\n\n\n\n\nRegistration\n\n\n\nPlease register for online participation. Registration for on-site participation is closed. \n\n\n\n\n\n\n\nProgram and Abstracts\n\n\n\n2022-Ancient-DNA-symposium-program-and-abstracts-1Download
URL:https://www.scilifelab.se/event/ancient-dna-symposium/
LOCATION:Large auditorium\, Swedish Museum of Natural History\, Frescativägen 40\, Stockholm\, Sweden
CATEGORIES:Event
ATTACH;FMTTYPE=image/jpeg:https://www.scilifelab.se/wp-content/uploads/2022/09/21A0115-scaled.jpg
ORGANIZER;CN="Ancient DNA Unit at SciLifeLab":MAILTO:magnus.lundgren@scilifelab.uu.se
END:VEVENT
END:VCALENDAR