BEGIN:VCALENDAR
VERSION:2.0
PRODID:-//SciLifeLab - ECPv6.15.20//NONSGML v1.0//EN
CALSCALE:GREGORIAN
METHOD:PUBLISH
X-WR-CALNAME:SciLifeLab
X-ORIGINAL-URL:https://www.scilifelab.se
X-WR-CALDESC:Events for SciLifeLab
REFRESH-INTERVAL;VALUE=DURATION:PT1H
X-Robots-Tag:noindex
X-PUBLISHED-TTL:PT1H
BEGIN:VTIMEZONE
TZID:Europe/Stockholm
BEGIN:DAYLIGHT
TZOFFSETFROM:+0100
TZOFFSETTO:+0200
TZNAME:CEST
DTSTART:20220327T010000
END:DAYLIGHT
BEGIN:STANDARD
TZOFFSETFROM:+0200
TZOFFSETTO:+0100
TZNAME:CET
DTSTART:20221030T010000
END:STANDARD
BEGIN:DAYLIGHT
TZOFFSETFROM:+0100
TZOFFSETTO:+0200
TZNAME:CEST
DTSTART:20230326T010000
END:DAYLIGHT
BEGIN:STANDARD
TZOFFSETFROM:+0200
TZOFFSETTO:+0100
TZNAME:CET
DTSTART:20231029T010000
END:STANDARD
BEGIN:DAYLIGHT
TZOFFSETFROM:+0100
TZOFFSETTO:+0200
TZNAME:CEST
DTSTART:20240331T010000
END:DAYLIGHT
BEGIN:STANDARD
TZOFFSETFROM:+0200
TZOFFSETTO:+0100
TZNAME:CET
DTSTART:20241027T010000
END:STANDARD
END:VTIMEZONE
BEGIN:VEVENT
DTSTART;TZID=Europe/Stockholm:20231122T150000
DTEND;TZID=Europe/Stockholm:20231122T160000
DTSTAMP:20260423T080851
CREATED:20231107T071615Z
LAST-MODIFIED:20231115T100612Z
UID:158268-1700665200-1700668800@www.scilifelab.se
SUMMARY:BAM-seminar; From PhD-student to patent attorney at Potter Clarkson
DESCRIPTION:The PhD and PostDoc council is excited to host Dr. Tomasz Wirt\, who currently serves as a trainee patent lawyer at Potter Clarkson\, a European law firm specialised in intellectual property.  \n\n\n\nTomasz pursued his doctoral studies at Stockholm University and is a SciLifeLab Campus Solna alumni. He will offer valuable insights into his career journey and provide an in-depth look at his current role as a patent lawyer. \n\n\n\n\n\n\n\nThis seminar is tailored specifically to address the unique challenges faced by PhD students and PostDocs in navigating a transition to jobs in industry. Join us as we highlight real-life success stories and provide valuable insights into professions outside academia.  \n\n\n\nEveryone welcome! Fika for registered participants. Register by November 19th! \n\n\n\n\n\n\n\n\n\n\n\nRegister
URL:https://www.scilifelab.se/event/bam-seminar-from-phd-student-to-patent-attorney-at-potter-clarkson/
LOCATION:Air&Fire\, SciLifeLab Stockholm\, Tomtebodavägen 23A\, Solna\, Sweden
CATEGORIES:Event
ATTACH;FMTTYPE=image/png:https://www.scilifelab.se/wp-content/uploads/2023/11/BAM-seminar.png
ORGANIZER;CN="SciLifeLab Solna PhD & Postdoc Council":MAILTO:phd-council@scilifelab.se
END:VEVENT
END:VCALENDAR