BEGIN:VCALENDAR
VERSION:2.0
PRODID:-//SciLifeLab - ECPv6.15.20//NONSGML v1.0//EN
CALSCALE:GREGORIAN
METHOD:PUBLISH
X-WR-CALNAME:SciLifeLab
X-ORIGINAL-URL:https://www.scilifelab.se
X-WR-CALDESC:Events for SciLifeLab
REFRESH-INTERVAL;VALUE=DURATION:PT1H
X-Robots-Tag:noindex
X-PUBLISHED-TTL:PT1H
BEGIN:VTIMEZONE
TZID:Europe/Stockholm
BEGIN:DAYLIGHT
TZOFFSETFROM:+0100
TZOFFSETTO:+0200
TZNAME:CEST
DTSTART:20230326T010000
END:DAYLIGHT
BEGIN:STANDARD
TZOFFSETFROM:+0200
TZOFFSETTO:+0100
TZNAME:CET
DTSTART:20231029T010000
END:STANDARD
BEGIN:DAYLIGHT
TZOFFSETFROM:+0100
TZOFFSETTO:+0200
TZNAME:CEST
DTSTART:20240331T010000
END:DAYLIGHT
BEGIN:STANDARD
TZOFFSETFROM:+0200
TZOFFSETTO:+0100
TZNAME:CET
DTSTART:20241027T010000
END:STANDARD
BEGIN:DAYLIGHT
TZOFFSETFROM:+0100
TZOFFSETTO:+0200
TZNAME:CEST
DTSTART:20250330T010000
END:DAYLIGHT
BEGIN:STANDARD
TZOFFSETFROM:+0200
TZOFFSETTO:+0100
TZNAME:CET
DTSTART:20251026T010000
END:STANDARD
END:VTIMEZONE
BEGIN:VEVENT
DTSTART;TZID=Europe/Stockholm:20240626T102000
DTEND;TZID=Europe/Stockholm:20240626T112000
DTSTAMP:20260422T035159
CREATED:20240312T093603Z
LAST-MODIFIED:20240614T152903Z
UID:165016-1719397200-1719400800@www.scilifelab.se
SUMMARY:Biodiversitetskrisen hotar hållbarhet och bioekonomi – kan svensk forskning vara lösningen?
DESCRIPTION:Planeten vi bebor förändras allt snabbare. Inom kort kan många ikoniska arter vara ett minne blott; ål\, flodkräfta och fjälluggla bland flera andra. Vi måste studera dessa\, för att kunna rädda dem\, innan det är för sent. Hjälp svenska forskare att hjälpa svensk natur! \n\n\n\nTill följd av klimatförändringar och mänsklig påverkan\, förloras biodiversitet och livsviktiga ekosystemtjänster i alarmerande takt. En stor utmaning är nu att förstå konsekvenserna och föreslå motåtgärder. För att möjliggöra detta\, bör arvsmassan från så många arter som möjligt kartläggas. Med detta syfte startades Earth Biogenome Project (EBP) år 2019 för att ge forskare verktyg att kartlägga förlust av mångfald\, rädda hotade arter\, finna nya läkemedel\, och säkerställa födotillgång för världens ökande befolkning. EBP är ett globalt nätverk av nationella och regionala projekt. Sverige är dessvärre ett av få i-länder som ännu inte har ett nationellt delprojekt. Anledningen till detta är att nödvändiga ekonomiska resurser inte avsatts. För att spela en aktiv roll och ta hänsyn till den biologiska mångfalden som kännetecknar vårt land\, behövs strategiskt ekonomiskt stöd. Svenska forskare och forskningsinfrastruktur är redo. Men vem kommer att backa upp oss? \n\n\n\n\n\n\n\nMedverkande\n\n\n\nOlga Vinnere Pettersson\, Scientific Lead of Planetary Biology Capability\, SciLifeLabAndreas Wallberg\, Forskare\, Uppsala UniversitetMats Svensson\, Avdelningchef\, Havs- och vattenmyndighetenCharlotta Berggren\, VVS-konsult\, ByDemandAnna Wetterbom\, Moderator\, SBDI \n\n\n\n\n\n\n\n\n\n\n\nKontakt:  \n\n\n\nOlga Vinnere Pettersson\, Uppsala universitet\, Olga.Pettersson@scilifelab.uu.se
URL:https://www.scilifelab.se/event/biodiversitetskrisen-och-genetisk-forskning-vad-ar-sveriges-svar/
LOCATION:Yoda Bar & Café\, Skeppsbron 24\, Visby\, Sweden
CATEGORIES:Event
ATTACH;FMTTYPE=image/jpeg:https://www.scilifelab.se/wp-content/uploads/2023/08/Almedalen-2023-2-scaled.jpeg
ORGANIZER;CN="SciLifeLab i Almedalen":MAILTO:events@scilifelab.se
END:VEVENT
END:VCALENDAR