BEGIN:VCALENDAR
VERSION:2.0
PRODID:-//SciLifeLab - ECPv6.15.20//NONSGML v1.0//EN
CALSCALE:GREGORIAN
METHOD:PUBLISH
X-WR-CALNAME:SciLifeLab
X-ORIGINAL-URL:https://www.scilifelab.se
X-WR-CALDESC:Events for SciLifeLab
REFRESH-INTERVAL;VALUE=DURATION:PT1H
X-Robots-Tag:noindex
X-PUBLISHED-TTL:PT1H
BEGIN:VTIMEZONE
TZID:Europe/Stockholm
BEGIN:DAYLIGHT
TZOFFSETFROM:+0100
TZOFFSETTO:+0200
TZNAME:CEST
DTSTART:20210328T010000
END:DAYLIGHT
BEGIN:STANDARD
TZOFFSETFROM:+0200
TZOFFSETTO:+0100
TZNAME:CET
DTSTART:20211031T010000
END:STANDARD
BEGIN:DAYLIGHT
TZOFFSETFROM:+0100
TZOFFSETTO:+0200
TZNAME:CEST
DTSTART:20220327T010000
END:DAYLIGHT
BEGIN:STANDARD
TZOFFSETFROM:+0200
TZOFFSETTO:+0100
TZNAME:CET
DTSTART:20221030T010000
END:STANDARD
BEGIN:DAYLIGHT
TZOFFSETFROM:+0100
TZOFFSETTO:+0200
TZNAME:CEST
DTSTART:20230326T010000
END:DAYLIGHT
BEGIN:STANDARD
TZOFFSETFROM:+0200
TZOFFSETTO:+0100
TZNAME:CET
DTSTART:20231029T010000
END:STANDARD
END:VTIMEZONE
BEGIN:VEVENT
DTSTART;TZID=Europe/Stockholm:20221101T120000
DTEND;TZID=Europe/Stockholm:20221101T130000
DTSTAMP:20260424T072436
CREATED:20220927T104420Z
LAST-MODIFIED:20220927T104528Z
UID:143890-1667304000-1667307600@www.scilifelab.se
SUMMARY:Bioinformatics and Data Center - A bioinformatics hub supporting biomedical and clinical research
DESCRIPTION:Bioinformatics and Data Center – A bioinformatics hub supporting biomedical and clinical research\n\n\n\nMarcela Davila / Per Sikora \n\n\n\nIn this seminar\, we will present the new setup for bioinformatics and infrastructure support at Core Facilities. The Bioinformatics and Data Centre provides high-throughput techniques for biomedical\, clinical and pre-clinical research; a wide range of support in bioinformatics and statistics is available – from short term consulting to long term project support and training; general consulting and support for HPC hardware and software infrastructure development and storage for “big data”. \n\n\n\nSciLifeLab is a national infrastructure within life science with a wide range of advanced technology and expertise. The newly started SciLifeLab site in Gothenburg includes units at both the University of Gothenburg and Chalmers University of Technology and has a strong connection to Sahlgrenska University Hospital. \n\n\n\nA light lunch will be offered during the talks for those joining on site. Online participation via Zoom is also available\, please click the zoom-link below to join the event at the appointed time. \n\n\n\nVenue\n\n\n\nAssembly Room Birgit Thilander\, Medicinaregatan 3
URL:https://www.scilifelab.se/event/bioinformatics-and-data-center-a-bioinformatics-hub-supporting-biomedical-and-clinical-research/
LOCATION:Birgit Thilander Lecture Hall\, Medicinaregatan 3\, Göteborg
CATEGORIES:Event
ORGANIZER;CN="SciLifeLab Gothenburg":MAILTO:gothenburg@scilifelab.se
END:VEVENT
END:VCALENDAR