BEGIN:VCALENDAR
VERSION:2.0
PRODID:-//SciLifeLab - ECPv6.15.20//NONSGML v1.0//EN
CALSCALE:GREGORIAN
METHOD:PUBLISH
X-WR-CALNAME:SciLifeLab
X-ORIGINAL-URL:https://www.scilifelab.se
X-WR-CALDESC:Events for SciLifeLab
REFRESH-INTERVAL;VALUE=DURATION:PT1H
X-Robots-Tag:noindex
X-PUBLISHED-TTL:PT1H
BEGIN:VTIMEZONE
TZID:Europe/Stockholm
BEGIN:DAYLIGHT
TZOFFSETFROM:+0100
TZOFFSETTO:+0200
TZNAME:CEST
DTSTART:20240331T010000
END:DAYLIGHT
BEGIN:STANDARD
TZOFFSETFROM:+0200
TZOFFSETTO:+0100
TZNAME:CET
DTSTART:20241027T010000
END:STANDARD
BEGIN:DAYLIGHT
TZOFFSETFROM:+0100
TZOFFSETTO:+0200
TZNAME:CEST
DTSTART:20250330T010000
END:DAYLIGHT
BEGIN:STANDARD
TZOFFSETFROM:+0200
TZOFFSETTO:+0100
TZNAME:CET
DTSTART:20251026T010000
END:STANDARD
BEGIN:DAYLIGHT
TZOFFSETFROM:+0100
TZOFFSETTO:+0200
TZNAME:CEST
DTSTART:20260329T010000
END:DAYLIGHT
BEGIN:STANDARD
TZOFFSETFROM:+0200
TZOFFSETTO:+0100
TZNAME:CET
DTSTART:20261025T010000
END:STANDARD
END:VTIMEZONE
BEGIN:VEVENT
DTSTART;TZID=Europe/Stockholm:20250131T110000
DTEND;TZID=Europe/Stockholm:20250131T120000
DTSTAMP:20260421T174046
CREATED:20250110T113642Z
LAST-MODIFIED:20250114T131915Z
UID:178313-1738321200-1738324800@www.scilifelab.se
SUMMARY:Calls for new project support in chemical biology and drug discovery
DESCRIPTION:The chemical biology unit (CBCS) and the Drug discovery and development (DDD) platform at SciLifeLab have calls out for projects. \n\n\n\nCBCS is looking for projects in Chemical Biology which includes assay development for small molecule screening and profiling\, as well as enabling chemistry. For more information\, please visit www.cbcs.se. \n\n\n\nThe DDD platform has a call looking for new project proposals for drug discovery. All therapeutic modalities that can be developed in collaboration with the DDD platform at SciLifeLab are of interest\, including small molecules\, antibodies\, oligonucleotides and new modalities. \n\n\n\nSome users and projects are at the intersection between chemical biology and drug discovery. We believe this webinar will help you to find out were your project fits in best. \n\n\n\n \n\n\n\nregistration\n\n\n\nProgram: \n\n\n\n1. Presentation of CBCS offerings2. Presentation of the DDDp offerings3. Q&A \n\n\n\nOrganizer: the Chemical Biology Consortium Sweden and the Drug Discovery & Development platform
URL:https://www.scilifelab.se/event/calls-for-new-project-support-in-chemical-biology-and-drug-discovery-3/
LOCATION:Online event via Zoom
CATEGORIES:Event
END:VEVENT
END:VCALENDAR