BEGIN:VCALENDAR
VERSION:2.0
PRODID:-//SciLifeLab - ECPv6.15.20//NONSGML v1.0//EN
CALSCALE:GREGORIAN
METHOD:PUBLISH
X-WR-CALNAME:SciLifeLab
X-ORIGINAL-URL:https://www.scilifelab.se
X-WR-CALDESC:Events for SciLifeLab
REFRESH-INTERVAL;VALUE=DURATION:PT1H
X-Robots-Tag:noindex
X-PUBLISHED-TTL:PT1H
BEGIN:VTIMEZONE
TZID:Europe/Stockholm
BEGIN:DAYLIGHT
TZOFFSETFROM:+0100
TZOFFSETTO:+0200
TZNAME:CEST
DTSTART:20210328T010000
END:DAYLIGHT
BEGIN:STANDARD
TZOFFSETFROM:+0200
TZOFFSETTO:+0100
TZNAME:CET
DTSTART:20211031T010000
END:STANDARD
BEGIN:DAYLIGHT
TZOFFSETFROM:+0100
TZOFFSETTO:+0200
TZNAME:CEST
DTSTART:20220327T010000
END:DAYLIGHT
BEGIN:STANDARD
TZOFFSETFROM:+0200
TZOFFSETTO:+0100
TZNAME:CET
DTSTART:20221030T010000
END:STANDARD
BEGIN:DAYLIGHT
TZOFFSETFROM:+0100
TZOFFSETTO:+0200
TZNAME:CEST
DTSTART:20230326T010000
END:DAYLIGHT
BEGIN:STANDARD
TZOFFSETFROM:+0200
TZOFFSETTO:+0100
TZNAME:CET
DTSTART:20231029T010000
END:STANDARD
END:VTIMEZONE
BEGIN:VEVENT
DTSTART;TZID=Europe/Stockholm:20220224T130000
DTEND;TZID=Europe/Stockholm:20220224T140000
DTSTAMP:20260425T124348
CREATED:20220207T102537Z
LAST-MODIFIED:20220207T102718Z
UID:61829-1645707600-1645711200@www.scilifelab.se
SUMMARY:Campus Solna PhD&Postdoc Seminar Series - Hailey Sounart and Mohammadreza Mohaghegh
DESCRIPTION:Welcome to the Campus Solna Seminar Series – an initiative to promote the fantastic science ongoing at Campus Solna and hopefully forge more internal communication and collaboration between the alpha and gamma buildings. The format will be 2 short 15 min talks (1 speaker from alpha and 1 from gamma)\, with an additional 5 min of questions. Presentation of ongoing (unpublished) projects is strongly encouraged. \n\n\n\nThe seminars are held Thursdays 13:00-13:50 and following current regulations\, they will be broadcast via zoom. \n\n\n\nFebruary 24\n\n\n\nDual spatially resolved transcriptomics for SARS-CoV-2 host-pathogen colocalization studies in humans Hailey Sounart (Stefania Giacomello\,  alpha 3) \n\n\n\nToMExO: Simultaneous inference of mutual exclusivity and progression patterns among oncogenesMohammadreza Mohaghegh (Jens Lagergren\, gamma 6) \n\n\n\n \n\n\n\nRegister to receive the zoom-link. The same zoom link applies for all Campus Solna Seminar Series\, i.e. only one registration is necessary. \n\n\nPlease select a valid form
URL:https://www.scilifelab.se/event/campus-solna-phdpostdoc-seminar-series-hailey-sounart-and-mohammadreza-mohaghegh/
LOCATION:Online event via Zoom
CATEGORIES:Community
ORGANIZER;CN="SciLifeLab Solna PhD & Postdoc Council":MAILTO:phd-council@scilifelab.se
END:VEVENT
END:VCALENDAR