BEGIN:VCALENDAR
VERSION:2.0
PRODID:-//SciLifeLab - ECPv6.15.20//NONSGML v1.0//EN
CALSCALE:GREGORIAN
METHOD:PUBLISH
X-WR-CALNAME:SciLifeLab
X-ORIGINAL-URL:https://www.scilifelab.se
X-WR-CALDESC:Events for SciLifeLab
REFRESH-INTERVAL;VALUE=DURATION:PT1H
X-Robots-Tag:noindex
X-PUBLISHED-TTL:PT1H
BEGIN:VTIMEZONE
TZID:Europe/Stockholm
BEGIN:DAYLIGHT
TZOFFSETFROM:+0100
TZOFFSETTO:+0200
TZNAME:CEST
DTSTART:20230326T010000
END:DAYLIGHT
BEGIN:STANDARD
TZOFFSETFROM:+0200
TZOFFSETTO:+0100
TZNAME:CET
DTSTART:20231029T010000
END:STANDARD
BEGIN:DAYLIGHT
TZOFFSETFROM:+0100
TZOFFSETTO:+0200
TZNAME:CEST
DTSTART:20240331T010000
END:DAYLIGHT
BEGIN:STANDARD
TZOFFSETFROM:+0200
TZOFFSETTO:+0100
TZNAME:CET
DTSTART:20241027T010000
END:STANDARD
BEGIN:DAYLIGHT
TZOFFSETFROM:+0100
TZOFFSETTO:+0200
TZNAME:CEST
DTSTART:20250330T010000
END:DAYLIGHT
BEGIN:STANDARD
TZOFFSETFROM:+0200
TZOFFSETTO:+0100
TZNAME:CET
DTSTART:20251026T010000
END:STANDARD
END:VTIMEZONE
BEGIN:VEVENT
DTSTART;TZID=Europe/Stockholm:20241017T120000
DTEND;TZID=Europe/Stockholm:20241017T130000
DTSTAMP:20260421T224550
CREATED:20240708T140852Z
LAST-MODIFIED:20241007T074153Z
UID:170144-1729166400-1729170000@www.scilifelab.se
SUMMARY:Campus Solna Seminar Series: Quentin Verron & Annika Bendes
DESCRIPTION:Welcome to join the Campus Solna Seminar Series – an initiative to promote the fantastic science ongoing at Campus Solna and hopefully forge more internal communication and collaboration between within Campus Solna. The format consists of two 20 min talks (One speaker from the Alpha-building and one from the Gamma-building respectively)\, with an additional 5 min of questions. Presentation of ongoing (unpublished) projects is strongly encouraged. \n\n\n\nThe seminars are held Thursdays 12:00-13:00. You can bring your lunch to the seminar. \n\n\n\nPhD students that are attending the Campus Solna Seminar lectures will have the opportunity to gain credits. For the syllabus and instructions on how to obtain these credits\, read this document. Please contact your own department at your host University to confirm.See here the full schedule for this semester. \n\n\n\nThis week:\n\n\n\n\n\n\nQuentin Verron\n\n\n\nMagda Bienko – alpha 4 \n\n\n\nExploring the Role of Trans-Interacting Intronic RNAs in Neuronal Genome Organization \n\n\n\n\n\nAnnika Bendes\n\n\n\nJochen Schwenk – alpha 2 \n\n\n\nInsights from highly frequent microsampling of the circulating proteome — A study of virus induced diabetes in mice \n\n\n\n\n\n\nThis seminar series is organized by the PhD & Postdoc Council. For more information about the Council and other events check our page.
URL:https://www.scilifelab.se/event/campus-solna-seminar-series-quentin-verron-josefin-kenrick/
LOCATION:Milkyway SciLifeLab Solna\, Tomtebodavägen 23\, Solna
CATEGORIES:Community
ATTACH;FMTTYPE=image/jpeg:https://www.scilifelab.se/wp-content/uploads/2022/09/IMG_20221103_120135408_HDR-scaled.jpg
ORGANIZER;CN="SciLifeLab Solna PhD & Postdoc Council":MAILTO:phd-council@scilifelab.se
END:VEVENT
END:VCALENDAR