BEGIN:VCALENDAR
VERSION:2.0
PRODID:-//SciLifeLab - ECPv6.15.20//NONSGML v1.0//EN
CALSCALE:GREGORIAN
METHOD:PUBLISH
X-WR-CALNAME:SciLifeLab
X-ORIGINAL-URL:https://www.scilifelab.se
X-WR-CALDESC:Events for SciLifeLab
REFRESH-INTERVAL;VALUE=DURATION:PT1H
X-Robots-Tag:noindex
X-PUBLISHED-TTL:PT1H
BEGIN:VTIMEZONE
TZID:Europe/Stockholm
BEGIN:DAYLIGHT
TZOFFSETFROM:+0100
TZOFFSETTO:+0200
TZNAME:CEST
DTSTART:20250330T010000
END:DAYLIGHT
BEGIN:STANDARD
TZOFFSETFROM:+0200
TZOFFSETTO:+0100
TZNAME:CET
DTSTART:20251026T010000
END:STANDARD
BEGIN:DAYLIGHT
TZOFFSETFROM:+0100
TZOFFSETTO:+0200
TZNAME:CEST
DTSTART:20260329T010000
END:DAYLIGHT
BEGIN:STANDARD
TZOFFSETFROM:+0200
TZOFFSETTO:+0100
TZNAME:CET
DTSTART:20261025T010000
END:STANDARD
BEGIN:DAYLIGHT
TZOFFSETFROM:+0100
TZOFFSETTO:+0200
TZNAME:CEST
DTSTART:20270328T010000
END:DAYLIGHT
BEGIN:STANDARD
TZOFFSETFROM:+0200
TZOFFSETTO:+0100
TZNAME:CET
DTSTART:20271031T010000
END:STANDARD
END:VTIMEZONE
BEGIN:VEVENT
DTSTART;TZID=Europe/Stockholm:20260323T080000
DTEND;TZID=Europe/Stockholm:20260324T170000
DTSTAMP:20260420T190347
CREATED:20260203T122842Z
LAST-MODIFIED:20260203T122844Z
UID:194191-1774252800-1774371600@www.scilifelab.se
SUMMARY:Cancer Core Europe’s 10th Annual meeting 2026 & Karolinska CCC days 2026
DESCRIPTION:Welcome to Cancer Core Europe’s 10th Annual meeting 2026 & Karolinska CCC days 2026 – a joint event to maximize oncology collaborations\, March 23-24\, 2026\, Stockholm \n\n\n\nOn 23–24 March\, Cancer Research KI and Karolinska CCC will host the Cancer Core Europe Annual Meeting and the Karolinska CCC Days 2026 in Stockholm. We look forward to two inspiring days filled with scientific discussions\, networking\, and valuable knowledge exchange.  \n\n\n\nRead more\n\n\n\nThe program is designed for all researchers and clinical staff interested in cutting‑edge cancer prevention\, research\, care and education. This year’s meeting features an engaging agenda\, including scientific presentations\, a poster session\, Cancer Core Europe updates\, and several distinguished keynote speakers: Irene Braña\, (Vall d’Hebron Institute of Oncology)\, Eric Fey\, (University of Helsinki)\, Elisabete Wiederpass\, (International Agency for Research on Cancer)\, Michael Baumann (German Cancer Research Center). \n\n\n\nWe are also pleased to present a highly engaging panel discussion with representatives from six major European cancer initiatives\, exploring how we can strengthen collaboration and work more effectively together across Europe. \n\n\n\nThe event offers a unique opportunity to connect with researchers from Karolinska CCC as well as scientists from the seven renowned Cancer Core Europe Institutes\, while gaining insights into the latest breakthroughs and developments in cancer research. \n\n\n\nDon’t miss our inspiring poster session\, showcasing a wide range of work\, from pioneering basic science to clinical studies and innovative projects shaping the future of cancer care. A prize will be awarded for the best poster.  Submit your abstract for a poster here. \n\n\n\nThe event will be held in English\, is open to all\, and free of charge. \n\n\n\nA warm welcome  \n\n\n\non behalf of CRKI and Karolinska CCC\, \n\n\n\nElias Arnér and Patrik Rossi \n\n\n\nOrganizers: \n\n\n\nCancer Research KI (CRKI) is an umbrella organization for all cancer research at Karolinska Institutet that has been working to support cancer research through various activities aimed at cancer researchers\, including several research grants and scientific meetings and other networking opportunities. CRKI is also part of Karolinska CCC. \n\n\n\nKarolinska Comprehensive Cancer Center (Karolinska CCC) is a center for cancer care and research at the hospital and institute under one roof. Karolinska CCC brings together cutting-edge expertise in highly specialized cancer care and basic\, translational and clinical cancer research. The center is a joint initiative between Karolinska University Hospital and Karolinska Institutet – and the first accredited Comprehensive Cancer Center (CCC) in Sweden. \n\n\n\nCancer Core Europe (CCE) is a collaborative and forward-thinking consortium consisting of seven leading cancer centers and research institutions. Cancer Research UK Cambridge Center (Cambridge\, UK)\, German Cancer Research Center with National Center for Tumor Diseases (Heidelberg\, Germany)\, Gustave Roussy Cancer Campus Grand Paris (Villejuif\, France)\, Fondazione IRCCS Istituto Nazionale dei Tumori (Milan\, Italy)\, Karolinska Institutet (Stockholm\, Sweden)\, Netherlands Cancer Institute (Amsterdam\, Netherlands) and Vall d’Hebron Institute of Oncology (Barcelona\, Spain). Together they work to advance cancer research and translate scientific breakthroughs into clinical practice across Europe.
URL:https://www.scilifelab.se/event/cancer-core-europes-10th-annual-meeting-2026-karolinska-ccc-days-2026/
LOCATION:Aula Medica\, Nobels väg 6\, Solna
CATEGORIES:Event
END:VEVENT
END:VCALENDAR