BEGIN:VCALENDAR
VERSION:2.0
PRODID:-//SciLifeLab - ECPv6.15.20//NONSGML v1.0//EN
CALSCALE:GREGORIAN
METHOD:PUBLISH
X-WR-CALNAME:SciLifeLab
X-ORIGINAL-URL:https://www.scilifelab.se
X-WR-CALDESC:Events for SciLifeLab
REFRESH-INTERVAL;VALUE=DURATION:PT1H
X-Robots-Tag:noindex
X-PUBLISHED-TTL:PT1H
BEGIN:VTIMEZONE
TZID:Europe/Stockholm
BEGIN:DAYLIGHT
TZOFFSETFROM:+0100
TZOFFSETTO:+0200
TZNAME:CEST
DTSTART:20250330T010000
END:DAYLIGHT
BEGIN:STANDARD
TZOFFSETFROM:+0200
TZOFFSETTO:+0100
TZNAME:CET
DTSTART:20251026T010000
END:STANDARD
BEGIN:DAYLIGHT
TZOFFSETFROM:+0100
TZOFFSETTO:+0200
TZNAME:CEST
DTSTART:20260329T010000
END:DAYLIGHT
BEGIN:STANDARD
TZOFFSETFROM:+0200
TZOFFSETTO:+0100
TZNAME:CET
DTSTART:20261025T010000
END:STANDARD
BEGIN:DAYLIGHT
TZOFFSETFROM:+0100
TZOFFSETTO:+0200
TZNAME:CEST
DTSTART:20270328T010000
END:DAYLIGHT
BEGIN:STANDARD
TZOFFSETFROM:+0200
TZOFFSETTO:+0100
TZNAME:CET
DTSTART:20271031T010000
END:STANDARD
END:VTIMEZONE
BEGIN:VEVENT
DTSTART;TZID=Europe/Stockholm:20260526T090000
DTEND;TZID=Europe/Stockholm:20260526T170000
DTSTAMP:20260420T103529
CREATED:20260213T094027Z
LAST-MODIFIED:20260303T162723Z
UID:194857-1779786000-1779814800@www.scilifelab.se
SUMMARY:Challenges in GPCR Drug Discovery
DESCRIPTION:G protein-coupled receptors (GPCRs) are the largest protein family encoded by the human genome and one of the key targets for therapeutic approaches across many disease areas. However\, only around 25% of the druggable GPCRs have been tapped into. This presents a significant opportunity to develop novel medicines with high therapeutic impact for the GPCR class in numerous indications. \n\n\n\nThe Challenges in GPCR drug discovery workshop is co-organized by Gothenburg University\, Uppsala University\, and AstraZeneca to explore the latest advancements in GPCR drug discovery research. Our aim is to bring together renowned international experts from industry\, biotech\, academia and service providers to facilitate communication between scientific groups and research areas within GPCR drug discovery community. The workshop focusses on lead-generation aspects such as\, computational approaches\, structural biology and pharmacology in early drug discovery of GPCRs. We believe this will lead to uncovering common challenges and finding new innovative approaches to drug discovery for GPCRs\, and further strengthen the GPCR community in the Nordics. \n\n\n\nThe workshop has a maximum of 90 attendants generating an informal atmosphere encouraging discussions\, networking and information exchange. Participants are encouraged to submit poster abstracts. Registration deadline is 27th of April. Due to the limited number of seats\, with over-subscription the organizing committee will maintain the right to select participants on the basis of fit to the program\, participants with a poster contribution will be prioritized\, otherwise selections in order of registration. \n\n\n\nRegistration\n\n\n\nVenue\n\n\n\nAstraZeneca Gothenburg\, Pepparedsleden 1\, 431 53\, MölndalParticipants are welcomed to report at the reception at the main entrance (KC) \n\n\n\nConfirmed Speakers\n\n\n\n\nMartin Gustavsson\, Copenhagen University\n\n\n\nElisabeth Rexen Ulven\, Copenhagen University\n\n\n\nAlexander Hauser\, Copenhagen University\n\n\n\nJanosch Ehrenmann\, LeadXpro\n\n\n\nAndreas Kiessling\, Cube-Biotech\n\n\n\nMadan Babu\, St. Jude Children’s Research Hospital\n\n\n\nGunnar Schulte\, Karolinska Institutet\n\n\n\nTore Bengtsson\, Atrogi\n\n\n\n\nOrganizing committee\n\n\n\n\nLinda Johansson\, Gothenburg University\n\n\n\nJens Carlsson\, Uppsala University\n\n\n\nArjan Snijder\, AstraZeneca\n\n\n\n\nThis workshop is sponsored by: Cube Biotech \n\n\n\nFlyer \n\n\n\nFlyer2026-v3Download
URL:https://www.scilifelab.se/event/challenges-in-gpcr-drug-discovery/
LOCATION:AstraZeneca (KC Reception)\, Pepparedsleden 1\, Mölndal\, Sweden
CATEGORIES:Event
ATTACH;FMTTYPE=image/png:https://www.scilifelab.se/wp-content/uploads/2026/02/gprotein.png
ORGANIZER;CN="SciLifeLab Event":MAILTO:events@scilifelab.se
END:VEVENT
END:VCALENDAR