BEGIN:VCALENDAR
VERSION:2.0
PRODID:-//SciLifeLab - ECPv6.15.20//NONSGML v1.0//EN
CALSCALE:GREGORIAN
METHOD:PUBLISH
X-WR-CALNAME:SciLifeLab
X-ORIGINAL-URL:https://www.scilifelab.se
X-WR-CALDESC:Events for SciLifeLab
REFRESH-INTERVAL;VALUE=DURATION:PT1H
X-Robots-Tag:noindex
X-PUBLISHED-TTL:PT1H
BEGIN:VTIMEZONE
TZID:Europe/Stockholm
BEGIN:DAYLIGHT
TZOFFSETFROM:+0100
TZOFFSETTO:+0200
TZNAME:CEST
DTSTART:20210328T010000
END:DAYLIGHT
BEGIN:STANDARD
TZOFFSETFROM:+0200
TZOFFSETTO:+0100
TZNAME:CET
DTSTART:20211031T010000
END:STANDARD
BEGIN:DAYLIGHT
TZOFFSETFROM:+0100
TZOFFSETTO:+0200
TZNAME:CEST
DTSTART:20220327T010000
END:DAYLIGHT
BEGIN:STANDARD
TZOFFSETFROM:+0200
TZOFFSETTO:+0100
TZNAME:CET
DTSTART:20221030T010000
END:STANDARD
BEGIN:DAYLIGHT
TZOFFSETFROM:+0100
TZOFFSETTO:+0200
TZNAME:CEST
DTSTART:20230326T010000
END:DAYLIGHT
BEGIN:STANDARD
TZOFFSETFROM:+0200
TZOFFSETTO:+0100
TZNAME:CET
DTSTART:20231029T010000
END:STANDARD
END:VTIMEZONE
BEGIN:VEVENT
DTSTART;TZID=Europe/Stockholm:20221011T120000
DTEND;TZID=Europe/Stockholm:20221011T130000
DTSTAMP:20260424T090101
CREATED:20220927T104040Z
LAST-MODIFIED:20220927T104229Z
UID:143884-1665489600-1665493200@www.scilifelab.se
SUMMARY:Clinical Genomics Gothenburg - Infrastructure and Research services
DESCRIPTION:Clinical Genomics Gothenburg – Infrastructure and Research services\n\n\n\nMeena Kanduri\, Clinical Genomics\, SciLifeLab Göteborg \n\n\n\nJoin us to learn more about the NGS-based services and the bioinformatic support that we offer at Clinical Genomics Gothenburg (CGG) unit with a focus towards translational and clinical research. \n\n\n\nSciLifeLab is a national infrastructure within life science with a wide range of advanced technology and expertise. The newly started SciLifeLab site in Gothenburg includes units at both the University of Gothenburg and Chalmers University of Technology and has a strongconnection to Sahlgrenska University Hospital. This seminar series is started with an overview of the site\, followed by presentations by the individual units. \n\n\n\nA light lunch will be offered during the talks for those joining on site. Online participation via Zoom is also available\, please click the zoom-link below to join the event at the appointed time. \n\n\n\nVenue\n\n\n\nAssembly Room Birgit Thilander\, Medicinaregatan 3
URL:https://www.scilifelab.se/event/clinical-genomics-gothenburg-infrastructure-and-research-services/
LOCATION:Birgit Thilander Lecture Hall\, Medicinaregatan 3\, Göteborg
CATEGORIES:Event
ORGANIZER;CN="SciLifeLab Gothenburg":MAILTO:gothenburg@scilifelab.se
END:VEVENT
END:VCALENDAR