BEGIN:VCALENDAR
VERSION:2.0
PRODID:-//SciLifeLab - ECPv6.15.20//NONSGML v1.0//EN
CALSCALE:GREGORIAN
METHOD:PUBLISH
X-WR-CALNAME:SciLifeLab
X-ORIGINAL-URL:https://www.scilifelab.se
X-WR-CALDESC:Events for SciLifeLab
REFRESH-INTERVAL;VALUE=DURATION:PT1H
X-Robots-Tag:noindex
X-PUBLISHED-TTL:PT1H
BEGIN:VTIMEZONE
TZID:Europe/Stockholm
BEGIN:DAYLIGHT
TZOFFSETFROM:+0100
TZOFFSETTO:+0200
TZNAME:CEST
DTSTART:20230326T010000
END:DAYLIGHT
BEGIN:STANDARD
TZOFFSETFROM:+0200
TZOFFSETTO:+0100
TZNAME:CET
DTSTART:20231029T010000
END:STANDARD
BEGIN:DAYLIGHT
TZOFFSETFROM:+0100
TZOFFSETTO:+0200
TZNAME:CEST
DTSTART:20240331T010000
END:DAYLIGHT
BEGIN:STANDARD
TZOFFSETFROM:+0200
TZOFFSETTO:+0100
TZNAME:CET
DTSTART:20241027T010000
END:STANDARD
BEGIN:DAYLIGHT
TZOFFSETFROM:+0100
TZOFFSETTO:+0200
TZNAME:CEST
DTSTART:20250330T010000
END:DAYLIGHT
BEGIN:STANDARD
TZOFFSETFROM:+0200
TZOFFSETTO:+0100
TZNAME:CET
DTSTART:20251026T010000
END:STANDARD
END:VTIMEZONE
BEGIN:VEVENT
DTSTART;TZID=Europe/Stockholm:20240531T140000
DTEND;TZID=Europe/Stockholm:20240531T143000
DTSTAMP:20260422T070835
CREATED:20240520T085004Z
LAST-MODIFIED:20240520T085101Z
UID:167952-1717164000-1717165800@www.scilifelab.se
SUMMARY:CSI Seminar: Abuse Awareness & Healing
DESCRIPTION:Dear Everyone\, \n\n\n\nWe welcome you to a new Coaching in Science Initiative (CSI) Seminar titled: ‘Abuse Awareness & Healing’ \n\n\n\nJoin us for a powerful seminar dedicated to abuse awareness and healing. We will delve into the complexities of abuse dynamics\, providing insights and resources\, recognizing signs and patterns\, and supporting survivors and allies alike. Whether you’re a survivor seeking solace or an advocate eager to make a difference\, this seminar offers a safe place to learn\, share\, and grow. Together\, let’s raise awareness\, foster empathy\, and empower one another on the journey toward healing\, resilience\, and reclaiming our voices. \n\n\n\nDate: 31/05/2024 \n\n\n\nTime: 14:00 – 14:30 \n\n\n\nZoom link: https://kth-se.zoom.us/j/66524802780 \n\n\n\nOn-site location: Gamma 2 lunch room \n\n\n\nWe will begin with a ~ 20 min talk\, held in Solna and over zoom. Then proceed with a reflection and discussion held only on-site. We encourage other sites to form watch parties\, by listening in together to the talk and then hold their own discussion afterwards. Hopefully seeding many local chapters of CSI. \n\n\n\nTo help facilitate discussion and reflection\, consider the following starter questions: \n\n\n\nAwareness: where do we experience abusive behaviors & healing in our lives? \n\n\n\nAnalysis: how well do I currently handle abusive situations & healing? \n\n\n\nAlternative: how could we relate to abusive behaviors & healing\, in our private life and society? \n\n\n\nAction: how will knowledge of different types of abuse & post-traumatic growth change my decisions going forward? \n\n\n\nPlease forward this to friends and colleagues! \n\n\n\nYours sincerely\, \n\n\n\nThe CSI Team \n\n\n\n\nhttps://www.thecoachinginscienceinitiative.org
URL:https://www.scilifelab.se/event/csi-seminar-abuse-awareness-healing/
LOCATION:Gamma 2 Lunchroom\, SciLifeLab\, Tomtebodavägen 23\, Solna\, Sweden
CATEGORIES:Event
ATTACH;FMTTYPE=image/png:https://www.scilifelab.se/wp-content/uploads/2024/05/CSI_logo_text.png
ORGANIZER;CN="Coaching in Science Initiative (CSI)":MAILTO:sami.saarenpaa@scilifelab.se
END:VEVENT
END:VCALENDAR