BEGIN:VCALENDAR
VERSION:2.0
PRODID:-//SciLifeLab - ECPv6.15.20//NONSGML v1.0//EN
CALSCALE:GREGORIAN
METHOD:PUBLISH
X-WR-CALNAME:SciLifeLab
X-ORIGINAL-URL:https://www.scilifelab.se
X-WR-CALDESC:Events for SciLifeLab
REFRESH-INTERVAL;VALUE=DURATION:PT1H
X-Robots-Tag:noindex
X-PUBLISHED-TTL:PT1H
BEGIN:VTIMEZONE
TZID:Europe/Stockholm
BEGIN:DAYLIGHT
TZOFFSETFROM:+0100
TZOFFSETTO:+0200
TZNAME:CEST
DTSTART:20220327T010000
END:DAYLIGHT
BEGIN:STANDARD
TZOFFSETFROM:+0200
TZOFFSETTO:+0100
TZNAME:CET
DTSTART:20221030T010000
END:STANDARD
BEGIN:DAYLIGHT
TZOFFSETFROM:+0100
TZOFFSETTO:+0200
TZNAME:CEST
DTSTART:20230326T010000
END:DAYLIGHT
BEGIN:STANDARD
TZOFFSETFROM:+0200
TZOFFSETTO:+0100
TZNAME:CET
DTSTART:20231029T010000
END:STANDARD
BEGIN:DAYLIGHT
TZOFFSETFROM:+0100
TZOFFSETTO:+0200
TZNAME:CEST
DTSTART:20240331T010000
END:DAYLIGHT
BEGIN:STANDARD
TZOFFSETFROM:+0200
TZOFFSETTO:+0100
TZNAME:CET
DTSTART:20241027T010000
END:STANDARD
END:VTIMEZONE
BEGIN:VEVENT
DTSTART;TZID=Europe/Stockholm:20230209T080000
DTEND;TZID=Europe/Stockholm:20230209T170000
DTSTAMP:20260424T031626
CREATED:20230203T143855Z
LAST-MODIFIED:20230203T144002Z
UID:148207-1675929600-1675962000@www.scilifelab.se
SUMMARY:Data-driven hallmarks of acute myeloid leukemia: biological\, prognostic and therapeutic implications
DESCRIPTION:Tom Erkers \n\n\n\nAssistant professor\, Department of Oncology-Pathology\, Karolinska Institutet \n\n\n\nHosts: CBCS-KI and PhenoTarget Research Community Program \n\n\n\nFebruary 9 at 3.30 pm \n\n\n\nGamma 2 Lunch Room & on Zoom
URL:https://www.scilifelab.se/event/data-driven-hallmarks-of-acute-myeloid-leukemia-biological-prognostic-and-therapeutic-implications/
LOCATION:Gamma 2 Lunchroom\, SciLifeLab\, Tomtebodavägen 23\, Solna\, Sweden
CATEGORIES:Event
END:VEVENT
END:VCALENDAR