BEGIN:VCALENDAR
VERSION:2.0
PRODID:-//SciLifeLab - ECPv6.15.20//NONSGML v1.0//EN
CALSCALE:GREGORIAN
METHOD:PUBLISH
X-WR-CALNAME:SciLifeLab
X-ORIGINAL-URL:https://www.scilifelab.se
X-WR-CALDESC:Events for SciLifeLab
REFRESH-INTERVAL;VALUE=DURATION:PT1H
X-Robots-Tag:noindex
X-PUBLISHED-TTL:PT1H
BEGIN:VTIMEZONE
TZID:Europe/Stockholm
BEGIN:DAYLIGHT
TZOFFSETFROM:+0100
TZOFFSETTO:+0200
TZNAME:CEST
DTSTART:20230326T010000
END:DAYLIGHT
BEGIN:STANDARD
TZOFFSETFROM:+0200
TZOFFSETTO:+0100
TZNAME:CET
DTSTART:20231029T010000
END:STANDARD
BEGIN:DAYLIGHT
TZOFFSETFROM:+0100
TZOFFSETTO:+0200
TZNAME:CEST
DTSTART:20240331T010000
END:DAYLIGHT
BEGIN:STANDARD
TZOFFSETFROM:+0200
TZOFFSETTO:+0100
TZNAME:CET
DTSTART:20241027T010000
END:STANDARD
BEGIN:DAYLIGHT
TZOFFSETFROM:+0100
TZOFFSETTO:+0200
TZNAME:CEST
DTSTART:20250330T010000
END:DAYLIGHT
BEGIN:STANDARD
TZOFFSETFROM:+0200
TZOFFSETTO:+0100
TZNAME:CET
DTSTART:20251026T010000
END:STANDARD
END:VTIMEZONE
BEGIN:VEVENT
DTSTART;TZID=Europe/Stockholm:20240926T090000
DTEND;TZID=Europe/Stockholm:20240926T170000
DTSTAMP:20260422T001620
CREATED:20240610T130511Z
LAST-MODIFIED:20240924T143954Z
UID:168581-1727341200-1727370000@www.scilifelab.se
SUMMARY:Data Driven Multi-omics Integration in Life Sciences
DESCRIPTION:The 10th RIKEN-KI-SciLifeLab Symposium \n\n\n\nLarge amounts of data are being generated in various omics disciplines such as genomics\, genetics\, transcriptomics\, proteomics\, metabolomics\, and epigenomics. Integrating these multi-dimensional omics datasets offers unprecedented opportunities to gain comprehensive insights into complex biological systems and their underlying mechanisms. This symposium on “Data Driven Multi-omics Integration in Life Sciences” brings together experts to explore the integration of multi-dimensional omics datasets. Speakers will specifically highlight the integrative aspect of their work and how it helped in understanding biology and medical sciences. \n\n\n\nRegistration\n\n\n\nProgram\n\n\n\n8:30Registration9:00Opening of SymposiumProf. Jan Ellenberg\, SciLifeLab DirectorProf. Annika Östman Wernerson\,KI PresidentProf. Kazuhiko Yamamoto (RIKEN Center IMS Director)Section 1: Transcriptomics/Genetics-centric integrationChair: Dr. Katsuyuki Yugi\, Dr. Chung-Chau Hon9:15Multi omics study on human immune systemProf. Kazuhiko Yamamoto (RIKEN IMS)9:45Mapping immune cell clonal dynamics within tissuesDr. Camilla Engblom (KI and SciLifeLab)10:05Integrating human genomics with population\, individual\, and single cell resolutionsDr. Yukinori Okada (RIKEN IMS)10:25Mobile element variation drives population-specific genome diversification\, gene regulation\, and disease riskDr. Kojima Sohei (RIKEN IMS)10:45Coffee BreakSpecial session: KI\, SciLifeLab and Japan11:15Introduction of JSPSJSPS Stockholm Office11:30RemarksProf. Per Nilsson (KI Japan Coordinator)11:30Section 2: Metabolomics/Proteomics-centric integrationChair: Dr. Chung-Chau Hon\, Dr. Katsuyuki Yugi11:35Bridging the gap between human genome and phenome with trans-omics networks of mouseDr. Katsuyuki Yugi (RIKEN IMS)11:55The new wave of interaction proteomics for mapping virus-host interactionsDr. Andrea Fossati (KI and SciLifeLab)12:15Decoding the cellular effects of pathogenic mutations through PTM and interaction proteomicsDr. Koshi Imami (RIKEN IMS)12:35Lunch BreakSection 3: Single-cell genomics-centric integrationChair: Dr. Carsten Daub\, Dr. Chung-Chau Hon13:45Spatial omics approaches for resolving stromal and neuro-immune interactions in osteoarthritisDr. Lea Mikkola (University of Turku)14:05Understanding disease heritability using single cell transcriptomics and deep learningDr. Chung-Chau Hon (RIKEN IMS)14:25Self-assembled surfaces for map-free spatial transcriptomicsDr. Erik Benson (KI and SciLifeLab)14:45Deciphering state-dependent immune features from multi-layer human omics at single-cell resolutionDr. Ryuya Edahiro (RIKEN IMS)15:05Genome-wide nutrition-induced ribosome frameshifts modulate transcriptome abundanceDr. Vicent Pelechano (KI and SciLifeLab)15:25Coffee Break (30 mins)Section 4: Large scale Data Integration/Artificial intelligenceChair: Dr. Carsten Daub\, Dr. Chung-Chau Hon15:55Use of AI in Biotechnology in Japan: Policy PerspectivesDr. Yusuke Mori (University of Tsukuba/Japan Embassy)16:15Autonomous Scientific Discovery by AIDr. Jun Seita (RIKEN IMS)16:35Predicting Drug Responses in Cancer with Interactome-Based AIDr. Avlant Nilsson (KI and SciLifeLab)16:55ClosingDr. Carsten Daub & Dr. Chung Chau Hon17:00Mingle & Pub\n\n\n\nSymposium History\n\n\n\nThis symposium series is organized between RIKEN in Japan\, and Karolinska Institutet and SciLifeLab in Sweden. The symposia alternate between RIKEN and SciLifeLab.  \n\n\n\nThe overall goals of the symposia are to  \n\n\n\n\nIdentify common scientific interests between RIKEN and SciLifeLab\, \n\n\n\nIdentify complementary skills and technologies for collaborations \n\n\n\nEncourage the exchange of Ph.D. students and postdocs between RIKEN and SciLifeLab/KI. \n\n\n\n\nSeveral collaborations between groups at KI\, SciLifeLab and RIKEN started based on first contact during one of the symposia. \n\n\n\nOrganizers\n\n\n\n\nDr. Kazuhiko Yamamoto (RIKEN IMS)\n\n\n\nDr. Carsten Daub (Karolinska Institutet/SciLifeLab)\n\n\n\nDr. Harukazu Suzuki (RIKEN IMS)\n\n\n\nDr. Chung-Chau Hon (RIKEN IMS)\n\n\n\n\n\n\n\n\n \n\n\n\n \n\n\n\n \n\n\n\nContact\n\n\n\nCarsten Daub\, KI/SciLifeLab \n\n\n\ncarsten.daub@scilifelab.se
URL:https://www.scilifelab.se/event/data-driven-multi-omics-integration-in-life-sciences-the-10th-riken-ki-scilifelab-symposium/
LOCATION:Air&Fire\, SciLifeLab Stockholm\, Tomtebodavägen 23A\, Solna\, Sweden
CATEGORIES:Event
END:VEVENT
END:VCALENDAR