BEGIN:VCALENDAR
VERSION:2.0
PRODID:-//SciLifeLab - ECPv6.15.20//NONSGML v1.0//EN
CALSCALE:GREGORIAN
METHOD:PUBLISH
X-WR-CALNAME:SciLifeLab
X-ORIGINAL-URL:https://www.scilifelab.se
X-WR-CALDESC:Events for SciLifeLab
REFRESH-INTERVAL;VALUE=DURATION:PT1H
X-Robots-Tag:noindex
X-PUBLISHED-TTL:PT1H
BEGIN:VTIMEZONE
TZID:Europe/Stockholm
BEGIN:DAYLIGHT
TZOFFSETFROM:+0100
TZOFFSETTO:+0200
TZNAME:CEST
DTSTART:20240331T010000
END:DAYLIGHT
BEGIN:STANDARD
TZOFFSETFROM:+0200
TZOFFSETTO:+0100
TZNAME:CET
DTSTART:20241027T010000
END:STANDARD
BEGIN:DAYLIGHT
TZOFFSETFROM:+0100
TZOFFSETTO:+0200
TZNAME:CEST
DTSTART:20250330T010000
END:DAYLIGHT
BEGIN:STANDARD
TZOFFSETFROM:+0200
TZOFFSETTO:+0100
TZNAME:CET
DTSTART:20251026T010000
END:STANDARD
BEGIN:DAYLIGHT
TZOFFSETFROM:+0100
TZOFFSETTO:+0200
TZNAME:CEST
DTSTART:20260329T010000
END:DAYLIGHT
BEGIN:STANDARD
TZOFFSETFROM:+0200
TZOFFSETTO:+0100
TZNAME:CET
DTSTART:20261025T010000
END:STANDARD
END:VTIMEZONE
BEGIN:VEVENT
DTSTART;TZID=Europe/Stockholm:20250423T130000
DTEND;TZID=Europe/Stockholm:20250424T150000
DTSTAMP:20260421T123149
CREATED:20250203T142407Z
LAST-MODIFIED:20250304T131831Z
UID:180322-1745413200-1745506800@www.scilifelab.se
SUMMARY:Data Management in Life Science
DESCRIPTION:Registration Now Open \n\n\n\n\nRegister here\n\n\n\n\nSciLifeLab Linköping together with SciLifeLab Data Centre and NBIS welcomes all life-science researchers (from master student to PI)\, data support\, tech staff and infrastructure experts in Linköping to join this event where we explore the available support for research data handling and discuss on good data management practices according to FAIR principles and Open Science.  \n\n\n\nOn-site event \n\n\n\nPROGRAM \n\n\n\nAPRIL 23 \n\n\n\n13:00-14:00 Good Data Management Practices – available services and support\n\nHere you will learn how to handle your research data according to FAIR principles and Open Science. The SciLifeLab Data Center\, NBIS and several units at LiU is providing knowledge\, tools and support in all life science data areas.  \n\n\nLinköping University and SciLifeLab\, has signed the CoARA agreement along with many other universities and academic organizations all over the world. FAIR is the abbreviation for Findable\, Accessible\, Interoperable and Reusable. \n\n\nThis Open Lecture is for everyone in academia and health care handling research data \n\n\n\n\n\nAPRIL 24 \n\n\n\n9:00-10:00 FAIR breakfast for Master students\, PhD-students and Postdocs\nHere\, young scientists join for breakfast and discussions on FAIR principles and how to handle research data. FAIR is the abbreviation for Findable\, Accessible\, Interoperable and Reusable. Knowledge in good research data handling from the very beginning of a project is not only required from many funders and journals for publication\, it will also be of good help for the researcher throughout the project and beyond. \n\n\n\n\n10:15-12:00 Workshop 1 – Data Management Plans\n\nBring your laptop and we will guide you through the Data Management Plan support program that will help you create your own plan. \n\n\n\n\n\n13:15-15:00 Workshop 2 – Working with Human Data\n\nHow can we meet the requirements of Open Data\, FAIR and share data when we only work with Sensitive Human Data? Is it possible?
URL:https://www.scilifelab.se/event/data-management-in-life-science/
LOCATION:Campus US\, Digitalis\, House 511\, floor 11\, Linköping
CATEGORIES:Event
ATTACH;FMTTYPE=image/png:https://www.scilifelab.se/wp-content/uploads/2021/03/data_life_cycle_9.png
ORGANIZER;CN="SciLifeLab Link%C3%B6ping":MAILTO:linkoping@scilifelab.se
END:VEVENT
END:VCALENDAR