BEGIN:VCALENDAR
VERSION:2.0
PRODID:-//SciLifeLab - ECPv6.15.20//NONSGML v1.0//EN
CALSCALE:GREGORIAN
METHOD:PUBLISH
X-WR-CALNAME:SciLifeLab
X-ORIGINAL-URL:https://www.scilifelab.se
X-WR-CALDESC:Events for SciLifeLab
REFRESH-INTERVAL;VALUE=DURATION:PT1H
X-Robots-Tag:noindex
X-PUBLISHED-TTL:PT1H
BEGIN:VTIMEZONE
TZID:Europe/Stockholm
BEGIN:DAYLIGHT
TZOFFSETFROM:+0100
TZOFFSETTO:+0200
TZNAME:CEST
DTSTART:20230326T010000
END:DAYLIGHT
BEGIN:STANDARD
TZOFFSETFROM:+0200
TZOFFSETTO:+0100
TZNAME:CET
DTSTART:20231029T010000
END:STANDARD
BEGIN:DAYLIGHT
TZOFFSETFROM:+0100
TZOFFSETTO:+0200
TZNAME:CEST
DTSTART:20240331T010000
END:DAYLIGHT
BEGIN:STANDARD
TZOFFSETFROM:+0200
TZOFFSETTO:+0100
TZNAME:CET
DTSTART:20241027T010000
END:STANDARD
BEGIN:DAYLIGHT
TZOFFSETFROM:+0100
TZOFFSETTO:+0200
TZNAME:CEST
DTSTART:20250330T010000
END:DAYLIGHT
BEGIN:STANDARD
TZOFFSETFROM:+0200
TZOFFSETTO:+0100
TZNAME:CET
DTSTART:20251026T010000
END:STANDARD
END:VTIMEZONE
BEGIN:VEVENT
DTSTART;TZID=Europe/Stockholm:20240528T100000
DTEND;TZID=Europe/Stockholm:20240528T123000
DTSTAMP:20260422T072231
CREATED:20240426T143635Z
LAST-MODIFIED:20240523T073434Z
UID:167036-1716890400-1716899400@www.scilifelab.se
SUMMARY:Discover services for data-driven life science
DESCRIPTION:Welcome to join SciLifeLab Data Centre and SciLifeLab Data Management for “Discover services for data-driven life science“-  an overview of data-driven services\, tools\, and support aimed at the fellows community. The event will also include a feedback session to help SciLifeLab Data Centre best support your specific research needs. Share your views about your current and future research needs\, e.g. state-of-the-art services that would further your research or the general research of your field\, currently not available on the SciLifeLab Data Platform. \n\n\n\nWhen: May 28\, 10-12.30 CEST (Zoom)Target group: Fellows\, and interested participant \n\n\n\n \n\n\n\nRegistration\n\n\n\nAgenda \n\n\n\n10.00-10.10   Welcome   Johan Rung\, Head of SciLifeLab Data Centre \n\n\n\n10.10-10.35   Open Science 101 Chris Erdmann\, Head of Open Science \n\n\n\n10.35-11.00   SciLifeLab Data Management services and support Angela Fuertes-Pardo\, Data Steward\, SciLifeLab Data Centre\, Elin Kronander\, Data Steward\, NBIS \n\n\n\n11.00-11.05  Coffee break \n\n\n\n11.05-11.30   How to get access to Compute\, Storage\, and Hosting to support your research\, Johan Alfredéen and Hamza Imran Saeed  \n\n\n\n11.30-12.30   Feedback session: Share your needs for data-driven life science services and tools. Moderators: Johan Rung\, Head of SciLifeLab Data Centre\, and Niclas Jareborg\, NBIS \n\n\n\n \n\n\n\nFor additional information please contact SciLifeLab Data Centre at datacentre@scilifelab.se
URL:https://www.scilifelab.se/event/discover-services-for-data-driven-life-science/
CATEGORIES:Event
LOCATION:
END:VEVENT
END:VCALENDAR