BEGIN:VCALENDAR
VERSION:2.0
PRODID:-//SciLifeLab - ECPv6.15.20//NONSGML v1.0//EN
CALSCALE:GREGORIAN
METHOD:PUBLISH
X-WR-CALNAME:SciLifeLab
X-ORIGINAL-URL:https://www.scilifelab.se
X-WR-CALDESC:Events for SciLifeLab
REFRESH-INTERVAL;VALUE=DURATION:PT1H
X-Robots-Tag:noindex
X-PUBLISHED-TTL:PT1H
BEGIN:VTIMEZONE
TZID:Europe/Stockholm
BEGIN:DAYLIGHT
TZOFFSETFROM:+0100
TZOFFSETTO:+0200
TZNAME:CEST
DTSTART:20240331T010000
END:DAYLIGHT
BEGIN:STANDARD
TZOFFSETFROM:+0200
TZOFFSETTO:+0100
TZNAME:CET
DTSTART:20241027T010000
END:STANDARD
BEGIN:DAYLIGHT
TZOFFSETFROM:+0100
TZOFFSETTO:+0200
TZNAME:CEST
DTSTART:20250330T010000
END:DAYLIGHT
BEGIN:STANDARD
TZOFFSETFROM:+0200
TZOFFSETTO:+0100
TZNAME:CET
DTSTART:20251026T010000
END:STANDARD
BEGIN:DAYLIGHT
TZOFFSETFROM:+0100
TZOFFSETTO:+0200
TZNAME:CEST
DTSTART:20260329T010000
END:DAYLIGHT
BEGIN:STANDARD
TZOFFSETFROM:+0200
TZOFFSETTO:+0100
TZNAME:CET
DTSTART:20261025T010000
END:STANDARD
END:VTIMEZONE
BEGIN:VEVENT
DTSTART;TZID=Europe/Stockholm:20251001T090000
DTEND;TZID=Europe/Stockholm:20251001T170000
DTSTAMP:20260421T011553
CREATED:20241101T094230Z
LAST-MODIFIED:20250929T172603Z
UID:175678-1759309200-1759338000@www.scilifelab.se
SUMMARY:Disruptive Technologies for Drugging the Undruggable
DESCRIPTION:SciLifeLab Science Summit 2025 \n\n\n\n\n\n\n\nAre you ready to explore the cutting-edge for the future of drug discovery? Mark your calendar for the SciLifeLab Science Summit 2025\, an event focusing on novel technologies as drivers to find new modalities for disease intervention and drug innovation for precision medicine. \n\n\n\nThis full-day symposium will bring together leading scientists\, industry experts\, and innovators to discuss the breakthroughs and challenges in addressing previously inaccessible drug targets. Join us at Aula Medica\, Karolinska Institutet\, for a packed program featuring high-impact international presentations\, panel discussions\, and networking opportunities. \n\n\n\nJunior researchers are encouraged to participate with poster presentations – with the opportunity to be selected to give a short talk. \n\n\n\nProgram\n\n\n\n08:45Registration09:30Welcome wordsIntroduction of the day09:40SciLifeLab – a fertile ground for innovationMia Phillipson\, SciLifeLab09:50Any target\, every time: how proximity-based drugs are redefining pharmacotherapyRay Deshaies\, Amgen / Caltech10:40Coffee break & poster session ISee Poster List & Abstracts here11:25Applying lessons learned from Duchenne exon skipping dystrophy to developing exon skipping for patients with nanorare diseasesAnnemieke Aartsma-Rus\, Leiden University Medical Center12:00Oligonucleotide therapy – from bench to besideAnders Gabrielsen\, Ribocure Pharmaceuticals12:10Empowering immunotherapy with cellular reprogrammingFilipe Pereira\, Lund university12:20Conclusions12:30Lunch & Poster Session13:40AI and machine learning for next-generation drug discoveryEva Nittinger\, AstraZeneca14:10Electrophoretic Implants for in situ Precision MedicineTheresia Arbring Sjöström\, Linköping University14:15Integrated Hit Discovery Pipeline Targeting Protein–Protein InteractionsFlorian David\, Chalmers University of Technology14:20Employing CETSA in primary screening for P53 bindersMerve Kacal\, Pelago Bioscience AB14:25Capturing Conformational Change : A Strategy for Drugging Dynamic Transporters\, Receptors and Ion ChannelsDarko Mitrovic\, KTH Royal Institute of Technology14:30Conclusions14:40Coffee break & poster session IISee poster list and abstract here15:30Encoded combinatorial libraries and the dream of Paul EhrlichDario Neri\, Philogen / ETHZ16:00The 2025 Drug Discovery and Development PipelineJessica Martinsson\, SwedenBio16:20Panel discussion16:40Wrap-up\, best poster award17:00Mingle\n\n\n\nPrintable program Science Summit 2025Download\n\n\n\n\n\n\n\nResearch Infrastructures and Research Posters\n\n\n\nPoster abstract book\, Science Summit 2025Download\n\n\n\nCompany Exhibition\n\n\n\n15 companies will present their technologies in the exhibition area. \n\n\n\nBICO\, Epistat\, Sino Biological Europe GmbH\, Chempartner\, Ramcon\, Twist Bioscience\, Shimadzu\, Teknolab Sorbent AB\, BioNordika Sweden AB\, Berner Lab\, Kem-En-Tec Nordic \, Eppendorf Nordic\, LabLife Nordic  \n\n\n\n\n\n\n\n\n\n \n\n\n\nScientific Committee\n\n\n\n\nClaes Wahlestedt\, University of Miami\n\n\n\nMalin Lemurell\, AstraZeneca\n\n\n\nAlexandra Teleki\, Uppsala University\n\n\n\n\n \n\n\n\n\n\n \n\n\n\nOrganizing Committee\n\n\n\n\nPer Arvidsson\, Karolinska Institutet/SciLifeLab\n\n\n\nRebecka Klintenberg\, Uppsala University/SciLifeLab\n\n\n\nMats Ohlin\, Lund University/SciLifeLab\n\n\n\nKristian Sandberg\, Uppsala University/SciLifeLab\n\n\n\nContact: David Gotthold\, SciLifeLab
URL:https://www.scilifelab.se/event/drugging-the-undruggable-scilifelab-science-summit-2025/
LOCATION:Aula Medica\, Nobels väg 6\, Solna
CATEGORIES:Event
ATTACH;FMTTYPE=image/png:https://www.scilifelab.se/wp-content/uploads/2024/11/Webpuff-Science-Summit-2025.png
ORGANIZER;CN="SciLifeLab Event":MAILTO:events@scilifelab.se
END:VEVENT
END:VCALENDAR