BEGIN:VCALENDAR
VERSION:2.0
PRODID:-//SciLifeLab - ECPv6.15.20//NONSGML v1.0//EN
CALSCALE:GREGORIAN
METHOD:PUBLISH
X-WR-CALNAME:SciLifeLab
X-ORIGINAL-URL:https://www.scilifelab.se
X-WR-CALDESC:Events for SciLifeLab
REFRESH-INTERVAL;VALUE=DURATION:PT1H
X-Robots-Tag:noindex
X-PUBLISHED-TTL:PT1H
BEGIN:VTIMEZONE
TZID:Europe/Stockholm
BEGIN:DAYLIGHT
TZOFFSETFROM:+0100
TZOFFSETTO:+0200
TZNAME:CEST
DTSTART:20240331T010000
END:DAYLIGHT
BEGIN:STANDARD
TZOFFSETFROM:+0200
TZOFFSETTO:+0100
TZNAME:CET
DTSTART:20241027T010000
END:STANDARD
BEGIN:DAYLIGHT
TZOFFSETFROM:+0100
TZOFFSETTO:+0200
TZNAME:CEST
DTSTART:20250330T010000
END:DAYLIGHT
BEGIN:STANDARD
TZOFFSETFROM:+0200
TZOFFSETTO:+0100
TZNAME:CET
DTSTART:20251026T010000
END:STANDARD
BEGIN:DAYLIGHT
TZOFFSETFROM:+0100
TZOFFSETTO:+0200
TZNAME:CEST
DTSTART:20260329T010000
END:DAYLIGHT
BEGIN:STANDARD
TZOFFSETFROM:+0200
TZOFFSETTO:+0100
TZNAME:CET
DTSTART:20261025T010000
END:STANDARD
END:VTIMEZONE
BEGIN:VEVENT
DTSTART;TZID=Europe/Stockholm:20250424T123000
DTEND;TZID=Europe/Stockholm:20250424T150000
DTSTAMP:20260421T123400
CREATED:20250411T134743Z
LAST-MODIFIED:20250411T134911Z
UID:185004-1745497800-1745506800@www.scilifelab.se
SUMMARY:EATRIS Sweden Spotlight Workshop
DESCRIPTION:AI in Biomarker Research and Development – Sweden Spotlight Workshop \n\n\n\nJoin us for an engaging workshop as part of the Swedish Spotlight on AI in Healthcare. The EATRIS Biomarkers Platform is proud to participate in “AI in Biomarker Research and Development\,” an event dedicated to exploring the entire biomarker development value chain. Together\, we will tackle key challenges\, explore pivotal decision points\, and uncover innovative AI-driven solutions. \n\n\n\nMore Information and Registration\n\n\n\nAgenda\n\n\n\n12:30 – 12:40 | Welcome & Introduction \n\n\n\n\nModerator: Emanuela Oldoni (EATRIS)\, Pontus Aspenström (National Director\, Sweden)\n\n\n\nSciLife lab introduction (Annika Jensen\, Infrastructure Director SciLifeLab)\n\n\n\nOverview of workshop objectives and structure\n\n\n\n\n12:40 – 13:10 | Keynote lecture: Unlocking the Future: AI-Driven Innovation in Biomarker Research and Healthcare \n\n\n\n13:10– 14:00 | Expert Presentations on AI & Biomarker Development \n\n\n\n\nUse of computational tools on Biomarker discovery Speaker: Yike Xie\, Gothenburg University\n\nRNA-based liquid biopsy and single-cell genomics in the context of human disease\n\n\n\n\n\nChallenges in Leveraging AI for Digital Biomarkers in Healthcare Speaker: Tim van den Broek\, TNO\n\nDefinition of digital biomarkers\n\n\n\nAddressing key challenges in data quality\, standardization\, and integration\n\n\n\nStrategies to enhance reproducibility and regulatory acceptance of AI-driven digital biomarkers\n\n\n\n\n\nAI-Biomarkers Validation & Qualification Speaker: [Nina Linder\, Helsinki/Uppsala University]\n\nChallenges in translating AI-derived biomarkers into validated clinical applications\n\n\n\n\n\n\n14:00 – 14:45 | Roundtable Discussion: Overcoming Challenges & Unlocking Opportunities \n\n\n\n\nModerated by Emanuela Oldoni\, Platform manager for the EATRIS Biomarkers Platform\n\n\n\nPanelists: [speakers+Biomarkers chairs]\n\n\n\nKey topics:\n\nGaps in AI-driven biomarker development\n\n\n\nStrategies for data integration & standardization\n\n\n\nRegulatory considerations & validation hurdles\n\n\n\nCollaboration models for AI implementation in biomarker R&D\n\n\n\n\n\n\n14:45 – 15:00 | Closing Remarks & Next Steps (Emanuela\, Ulrika) \n\n\n\n\nSummary of key takeaways\n\n\n\nPotential follow-up actions and collaboration
URL:https://www.scilifelab.se/event/eatris-sweden-spotlight-workshop/
CATEGORIES:Event
END:VEVENT
END:VCALENDAR