BEGIN:VCALENDAR
VERSION:2.0
PRODID:-//SciLifeLab - ECPv6.15.20//NONSGML v1.0//EN
CALSCALE:GREGORIAN
METHOD:PUBLISH
X-WR-CALNAME:SciLifeLab
X-ORIGINAL-URL:https://www.scilifelab.se
X-WR-CALDESC:Events for SciLifeLab
REFRESH-INTERVAL;VALUE=DURATION:PT1H
X-Robots-Tag:noindex
X-PUBLISHED-TTL:PT1H
BEGIN:VTIMEZONE
TZID:Europe/Stockholm
BEGIN:DAYLIGHT
TZOFFSETFROM:+0100
TZOFFSETTO:+0200
TZNAME:CEST
DTSTART:20230326T010000
END:DAYLIGHT
BEGIN:STANDARD
TZOFFSETFROM:+0200
TZOFFSETTO:+0100
TZNAME:CET
DTSTART:20231029T010000
END:STANDARD
BEGIN:DAYLIGHT
TZOFFSETFROM:+0100
TZOFFSETTO:+0200
TZNAME:CEST
DTSTART:20240331T010000
END:DAYLIGHT
BEGIN:STANDARD
TZOFFSETFROM:+0200
TZOFFSETTO:+0100
TZNAME:CET
DTSTART:20241027T010000
END:STANDARD
BEGIN:DAYLIGHT
TZOFFSETFROM:+0100
TZOFFSETTO:+0200
TZNAME:CEST
DTSTART:20250330T010000
END:DAYLIGHT
BEGIN:STANDARD
TZOFFSETFROM:+0200
TZOFFSETTO:+0100
TZNAME:CET
DTSTART:20251026T010000
END:STANDARD
END:VTIMEZONE
BEGIN:VEVENT
DTSTART;TZID=Europe/Stockholm:20240312T090000
DTEND;TZID=Europe/Stockholm:20240314T150000
DTSTAMP:20260422T195735
CREATED:20240229T151409Z
LAST-MODIFIED:20240229T152323Z
UID:164074-1710234000-1710428400@www.scilifelab.se
SUMMARY:Exhibition in Navet at BMC
DESCRIPTION:On March 12-14\, between 09.00-15.00\, you have a new opportunity to visit our exhibition in Navet at BMC. This is a chance to receive information and updates from 30 of the leading life science companies in Sweden. The entrance to Navet will be open between 09:00-15:00 for external visitors. \n\n\n\n\n\n\n\n\n\n\n\n\n\n\n\n\n\n\n\n\n\n\n\n\n\n\n\n\n\n\n\nCompany descriptions
URL:https://www.scilifelab.se/event/exhibition-in-navet-at-bmc-3/
LOCATION:Navet\, SciLifeLab Uppsala\, SciLifeLab Uppsala\, BMC C11\, Husargatan 3\, Uppsala\, 75237\, Sweden
CATEGORIES:Event
ATTACH;FMTTYPE=image/jpeg:https://www.scilifelab.se/wp-content/uploads/2023/03/Navet.jpg
ORGANIZER;CN="SciLifeLab Navet":MAILTO:lokalbokning@scilifelab.uu.se
END:VEVENT
END:VCALENDAR