BEGIN:VCALENDAR
VERSION:2.0
PRODID:-//SciLifeLab - ECPv6.15.20//NONSGML v1.0//EN
CALSCALE:GREGORIAN
METHOD:PUBLISH
X-WR-CALNAME:SciLifeLab
X-ORIGINAL-URL:https://www.scilifelab.se
X-WR-CALDESC:Events for SciLifeLab
REFRESH-INTERVAL;VALUE=DURATION:PT1H
X-Robots-Tag:noindex
X-PUBLISHED-TTL:PT1H
BEGIN:VTIMEZONE
TZID:Europe/Stockholm
BEGIN:DAYLIGHT
TZOFFSETFROM:+0100
TZOFFSETTO:+0200
TZNAME:CEST
DTSTART:20230326T010000
END:DAYLIGHT
BEGIN:STANDARD
TZOFFSETFROM:+0200
TZOFFSETTO:+0100
TZNAME:CET
DTSTART:20231029T010000
END:STANDARD
BEGIN:DAYLIGHT
TZOFFSETFROM:+0100
TZOFFSETTO:+0200
TZNAME:CEST
DTSTART:20240331T010000
END:DAYLIGHT
BEGIN:STANDARD
TZOFFSETFROM:+0200
TZOFFSETTO:+0100
TZNAME:CET
DTSTART:20241027T010000
END:STANDARD
BEGIN:DAYLIGHT
TZOFFSETFROM:+0100
TZOFFSETTO:+0200
TZNAME:CEST
DTSTART:20250330T010000
END:DAYLIGHT
BEGIN:STANDARD
TZOFFSETFROM:+0200
TZOFFSETTO:+0100
TZNAME:CET
DTSTART:20251026T010000
END:STANDARD
END:VTIMEZONE
BEGIN:VEVENT
DTSTART;TZID=Europe/Stockholm:20240626T160000
DTEND;TZID=Europe/Stockholm:20240626T170000
DTSTAMP:20260422T035312
CREATED:20240312T094238Z
LAST-MODIFIED:20240614T153131Z
UID:165020-1719417600-1719421200@www.scilifelab.se
SUMMARY:Framtidens hälso- och sjukvård och forskning möjliggörs tack vare europeisk satsning på genomikdata
DESCRIPTION:För förbättrad sjukvård (precisionsmedicin) och ökad kunskap om genetisk variation arbetar Europa tillsammans för att ge forskare och läkare tillgång till viktiga genomikdata. Med lagstiftning på hälsodataområdet och säker tillgång till data skapas nya möjligheter för framtidens sjukvård och forskning. \n\n\n\nSeminarium men initiala korta presentationer om de pågående initiativen följt av paneldiskussion och frågor från auditoriet. a) De korta presentationerna kommer att vara kring: i) Det europeiska 1+Million Genome Project\, som Sverige och 23 andra länder är engagerade i. ii) Byggande av en europeisk genomikdatainfrastruktur (GDI) iii) Ny lagstiftning inom hälsodataområdet (EHDS) iv) Precisionsmedicinens möjligheter för medborgare\, patienter och forskare b) Paneldiskussion med företrädare för genomikinfrastrukturen\, sjukvården\, precisionsmedicin\, e-hälsomyndigheten\, patientföreningar och juridisk kompetens. c) Tillfälle för publiken att ställa frågor så att vi får en öppen diskussion med tillfälle till fördjupning. \n\n\n\nMedverkande\n\n\n\nBengt Persson\, Professor i bioinformatik\, Uppsala Univ\, SciLifeLab\, NBIS\, ELIXIRRichard Rosenquist Brandell\, Professor och överläkare i klinisk genetik\, Karolinska Institutet\, Karolinska Universitetssjukhuset\, Genomic Medicine SwedenÅsa Johansson\, Universitetslektor och Vetenskaplig ledare för Precisionsmedicin\, Uppsala Univ\, SciLifeLabManólis Nymark\, Jurist\, European 1+ Million Genome projectMichel Silvestri\, Enhetschef\, med dr\, E-hälsomyndighetenJohan Viklund\, Teknisk chef\, Uppsala Univ\, SciLifeLab\, NBIS\, ELIXIR \n\n\n\nKontakt \n\n\n\nBengt Persson\, Uppsala universitet\, bengt.persson@icm.uu.se
URL:https://www.scilifelab.se/event/framtidens-halso-och-sjukvard-och-forskning-mojliggors-tack-vare-europeisk-satsning-pa-genomikdata/
LOCATION:D-huset\, Campus Gotland\, Kaserngatan 1\, Visby\, Sweden
CATEGORIES:Event
ATTACH;FMTTYPE=image/jpeg:https://www.scilifelab.se/wp-content/uploads/2023/08/Almedalen-2023-2-scaled.jpeg
ORGANIZER;CN="SciLifeLab i Almedalen":MAILTO:events@scilifelab.se
END:VEVENT
END:VCALENDAR