BEGIN:VCALENDAR
VERSION:2.0
PRODID:-//SciLifeLab - ECPv6.15.20//NONSGML v1.0//EN
CALSCALE:GREGORIAN
METHOD:PUBLISH
X-WR-CALNAME:SciLifeLab
X-ORIGINAL-URL:https://www.scilifelab.se
X-WR-CALDESC:Events for SciLifeLab
REFRESH-INTERVAL;VALUE=DURATION:PT1H
X-Robots-Tag:noindex
X-PUBLISHED-TTL:PT1H
BEGIN:VTIMEZONE
TZID:Europe/Stockholm
BEGIN:DAYLIGHT
TZOFFSETFROM:+0100
TZOFFSETTO:+0200
TZNAME:CEST
DTSTART:20230326T010000
END:DAYLIGHT
BEGIN:STANDARD
TZOFFSETFROM:+0200
TZOFFSETTO:+0100
TZNAME:CET
DTSTART:20231029T010000
END:STANDARD
BEGIN:DAYLIGHT
TZOFFSETFROM:+0100
TZOFFSETTO:+0200
TZNAME:CEST
DTSTART:20240331T010000
END:DAYLIGHT
BEGIN:STANDARD
TZOFFSETFROM:+0200
TZOFFSETTO:+0100
TZNAME:CET
DTSTART:20241027T010000
END:STANDARD
BEGIN:DAYLIGHT
TZOFFSETFROM:+0100
TZOFFSETTO:+0200
TZNAME:CEST
DTSTART:20250330T010000
END:DAYLIGHT
BEGIN:STANDARD
TZOFFSETFROM:+0200
TZOFFSETTO:+0100
TZNAME:CET
DTSTART:20251026T010000
END:STANDARD
END:VTIMEZONE
BEGIN:VEVENT
DTSTART;TZID=Europe/Stockholm:20241113T140000
DTEND;TZID=Europe/Stockholm:20241113T150000
DTSTAMP:20260421T210629
CREATED:20241111T144233Z
LAST-MODIFIED:20241112T074643Z
UID:176141-1731506400-1731510000@www.scilifelab.se
SUMMARY:Glycomics of Human Immune Responses
DESCRIPTION:Eurolife Distinguished Lecture\n\n\n\nProfessor Manfred Wuhrer\, Leiden University Medical Center\n\n\n\nSciLifeLab Solna venue Air & Fire and online here >>  \n\n\n\nJoin Online\n\n\n\nWelcome to this lecture by Prof Dr Manfred Wuhrer from Leiden University Medical Center\, The Netherlands\, as part of the Eurolife Distinguished Lecture Series (EDLS). \n\n\n\nGlycosylation is a key factor in shaping multicellular life including immunological responses. Glycosylation modifies the activity and fate of both antibodies and immune cells involved in infections\, inflammatory responses and cancer. Mass spectrometry approaches allow to unravel disease-associated glycosylation changes including specific glycans attached to the Fc portion of antibodies that dictate antibody effector functions in auto- and alloimmune conditions\, inflammatory and infectious diseases\, and cancer. Exploring the glycomic dimension of diseases has great promise in providing novel diagnostic and therapeutic leads. \n\n\n\nMore information about Prof Dr Manfred Wuhrer from Leiden University Medical Center
URL:https://www.scilifelab.se/event/glycomics-of-human-immune-responses/
LOCATION:Air&Fire\, SciLifeLab Stockholm\, Tomtebodavägen 23A\, Solna\, Sweden
END:VEVENT
END:VCALENDAR