BEGIN:VCALENDAR
VERSION:2.0
PRODID:-//SciLifeLab - ECPv6.15.20//NONSGML v1.0//EN
CALSCALE:GREGORIAN
METHOD:PUBLISH
X-WR-CALNAME:SciLifeLab
X-ORIGINAL-URL:https://www.scilifelab.se
X-WR-CALDESC:Events for SciLifeLab
REFRESH-INTERVAL;VALUE=DURATION:PT1H
X-Robots-Tag:noindex
X-PUBLISHED-TTL:PT1H
BEGIN:VTIMEZONE
TZID:Europe/Stockholm
BEGIN:DAYLIGHT
TZOFFSETFROM:+0100
TZOFFSETTO:+0200
TZNAME:CEST
DTSTART:20230326T010000
END:DAYLIGHT
BEGIN:STANDARD
TZOFFSETFROM:+0200
TZOFFSETTO:+0100
TZNAME:CET
DTSTART:20231029T010000
END:STANDARD
BEGIN:DAYLIGHT
TZOFFSETFROM:+0100
TZOFFSETTO:+0200
TZNAME:CEST
DTSTART:20240331T010000
END:DAYLIGHT
BEGIN:STANDARD
TZOFFSETFROM:+0200
TZOFFSETTO:+0100
TZNAME:CET
DTSTART:20241027T010000
END:STANDARD
BEGIN:DAYLIGHT
TZOFFSETFROM:+0100
TZOFFSETTO:+0200
TZNAME:CEST
DTSTART:20250330T010000
END:DAYLIGHT
BEGIN:STANDARD
TZOFFSETFROM:+0200
TZOFFSETTO:+0100
TZNAME:CET
DTSTART:20251026T010000
END:STANDARD
END:VTIMEZONE
BEGIN:VEVENT
DTSTART;TZID=Europe/Stockholm:20240513T090000
DTEND;TZID=Europe/Stockholm:20240514T160000
DTSTAMP:20260422T110653
CREATED:20240110T084457Z
LAST-MODIFIED:20240110T084615Z
UID:161509-1715590800-1715702400@www.scilifelab.se
SUMMARY:Harnessing AI Transforms Research: Smart Strategies for Advanced Productivity
DESCRIPTION:SciLifeLab Gothenburg invites you to a hands-on workshop during two days led by PD Dr. Daniel Mertens\, who is a biochemist and group leader at the German Cancer Research Center (DKFZ) and at the University of Ulm. He is both a successfull scientist\, with more than 100 publications within life science that have been cited more than 5000 times (Daniel Mertens – Web of Science Core Collection) and an experienced lecturer\, who has been training scientists\, physicians\, administrators and other staff in different transferable skills (www.scientistsneedmore.de). So far\, more than 4000 participants have taken part in his international workshops around the world. Take the chance to learn more about how to use AI to increase your scientific productivity and quality in this instructive hands-on workshop lead by Dr. Mertens! \n\n\n\nThe workshop will cover these topics: \n\n\n\n\nWhy use AI? Productivity and quality increase.\n\n\n\nHow do LLMs work?\n\n\n\nPrompting like a Pro\n\n\n\nUsing AI for structuring text\, and telling a story\n\n\n\nUsing AI for brainstorming of experiments and projects\n\n\n\nUsing AI for decision making\, introspection\, career development and for training of interpersonal interactions\n\n\n\nGood Scientific Practice using AI Assistants: plagiarism\, copyright\, usage for brainstorming\, publishing and for grant writing\n\n\n\n\n\n\n\n\nmore information and registration
URL:https://www.scilifelab.se/event/harnessing-ai-transforms-research-smart-strategies-for-advanced-productivity/
LOCATION:Conference Centre Wallenberg\, Medicinaregatan 20A\, Gothenburg\, 413 90\, Sweden
CATEGORIES:Event
ATTACH;FMTTYPE=image/png:https://www.scilifelab.se/wp-content/uploads/2024/01/AIworkshop8.png
ORGANIZER;CN="SciLifeLab Gothenburg":MAILTO:gothenburg@scilifelab.se
END:VEVENT
END:VCALENDAR