BEGIN:VCALENDAR
VERSION:2.0
PRODID:-//SciLifeLab - ECPv6.15.20//NONSGML v1.0//EN
CALSCALE:GREGORIAN
METHOD:PUBLISH
X-WR-CALNAME:SciLifeLab
X-ORIGINAL-URL:https://www.scilifelab.se
X-WR-CALDESC:Events for SciLifeLab
REFRESH-INTERVAL;VALUE=DURATION:PT1H
X-Robots-Tag:noindex
X-PUBLISHED-TTL:PT1H
BEGIN:VTIMEZONE
TZID:Europe/Stockholm
BEGIN:DAYLIGHT
TZOFFSETFROM:+0100
TZOFFSETTO:+0200
TZNAME:CEST
DTSTART:20230326T010000
END:DAYLIGHT
BEGIN:STANDARD
TZOFFSETFROM:+0200
TZOFFSETTO:+0100
TZNAME:CET
DTSTART:20231029T010000
END:STANDARD
BEGIN:DAYLIGHT
TZOFFSETFROM:+0100
TZOFFSETTO:+0200
TZNAME:CEST
DTSTART:20240331T010000
END:DAYLIGHT
BEGIN:STANDARD
TZOFFSETFROM:+0200
TZOFFSETTO:+0100
TZNAME:CET
DTSTART:20241027T010000
END:STANDARD
BEGIN:DAYLIGHT
TZOFFSETFROM:+0100
TZOFFSETTO:+0200
TZNAME:CEST
DTSTART:20250330T010000
END:DAYLIGHT
BEGIN:STANDARD
TZOFFSETFROM:+0200
TZOFFSETTO:+0100
TZNAME:CET
DTSTART:20251026T010000
END:STANDARD
END:VTIMEZONE
BEGIN:VEVENT
DTSTART;TZID=Europe/Stockholm:20241128T153000
DTEND;TZID=Europe/Stockholm:20241128T180000
DTSTAMP:20260421T205823
CREATED:20241030T142714Z
LAST-MODIFIED:20241030T142906Z
UID:175588-1732807800-1732816800@www.scilifelab.se
SUMMARY:Healthcare and Life Sciences Ecosystem Event
DESCRIPTION:SciLifeLab\, together with NVIDIA\, Accenture and Stuns organize this event and welcome you to join us on November 28 for a groundbreaking Healthcare and Life Sciences ecosystem event. Discover how new computing paradigms are revolutionizing personalized medicine\, next-generation clinics\, and biomedical research. \n\n\n\nConnect with fellow innovators\, startups\, researchers\, practitioners\, and integrators as we navigate the rapidly evolving healthcare landscape together. Don’t miss this opportunity to be part of a community shaping the future of healthcare. \n\n\n\n \n\n\n\n \n\n\n\nRead more\n\n\n\n \n\n\n\nAgenda\n\n\n\n3:30 pm – Arrival and Registration \n\n\n\n4:00 pm – Welcome Address \n\n\n\n4:30 pm – Medical Imaging Showcase \n\n\n\n4:45 pm – Life Science Showcase \n\n\n\n5:00 pm – Converging Frontiers: Shaping the Swedish AI Ecosystem (Consulting\, Pharma\, Startup) \n\n\n\n6:00 pm – Reception with Networking and Demos
URL:https://www.scilifelab.se/event/healthcare-and-life-sciences-ecosystem-event/
LOCATION:Urban Deli Hagastaden\, Hagaesplanaden 49\, Stockholm\, Stockholm\, Sweden
CATEGORIES:Event
END:VEVENT
END:VCALENDAR