BEGIN:VCALENDAR
VERSION:2.0
PRODID:-//SciLifeLab - ECPv6.15.20//NONSGML v1.0//EN
CALSCALE:GREGORIAN
METHOD:PUBLISH
X-WR-CALNAME:SciLifeLab
X-ORIGINAL-URL:https://www.scilifelab.se
X-WR-CALDESC:Events for SciLifeLab
REFRESH-INTERVAL;VALUE=DURATION:PT1H
X-Robots-Tag:noindex
X-PUBLISHED-TTL:PT1H
BEGIN:VTIMEZONE
TZID:Europe/Stockholm
BEGIN:DAYLIGHT
TZOFFSETFROM:+0100
TZOFFSETTO:+0200
TZNAME:CEST
DTSTART:20230326T010000
END:DAYLIGHT
BEGIN:STANDARD
TZOFFSETFROM:+0200
TZOFFSETTO:+0100
TZNAME:CET
DTSTART:20231029T010000
END:STANDARD
BEGIN:DAYLIGHT
TZOFFSETFROM:+0100
TZOFFSETTO:+0200
TZNAME:CEST
DTSTART:20240331T010000
END:DAYLIGHT
BEGIN:STANDARD
TZOFFSETFROM:+0200
TZOFFSETTO:+0100
TZNAME:CET
DTSTART:20241027T010000
END:STANDARD
BEGIN:DAYLIGHT
TZOFFSETFROM:+0100
TZOFFSETTO:+0200
TZNAME:CEST
DTSTART:20250330T010000
END:DAYLIGHT
BEGIN:STANDARD
TZOFFSETFROM:+0200
TZOFFSETTO:+0100
TZNAME:CET
DTSTART:20251026T010000
END:STANDARD
END:VTIMEZONE
BEGIN:VEVENT
DTSTART;TZID=Europe/Stockholm:20240627T113000
DTEND;TZID=Europe/Stockholm:20240627T123000
DTSTAMP:20260422T034910
CREATED:20240312T093325Z
LAST-MODIFIED:20240614T153257Z
UID:165012-1719487800-1719491400@www.scilifelab.se
SUMMARY:Hur kan storskaliga molekylära analyser leda till precisionshälsa?
DESCRIPTION:Molekylära analyser kan möjliggöra preventiva insatser\, tidig diagnos och individanpassad behandling. Hur kan vi underlätta införandet av nya teknologier för precisionshälsa i hälso- och sjukvården? Och vilka långsiktiga ekonomiska och hälsomässiga fördelar kan detta ha för samhället? \n\n\n\n\n\n\n\nSverige har en världsunik forskningsinfrastruktur för molekylära analyser och spetskompetens inom dataanalys. Vi har även byggt upp starka nätverk mellan akademi och sjukvårdsregioner för implementering av genetiska analyser i klinisk rutin. Hur kan vi på bästa sätt nyttja och bygga vidare på dessa resurser för att skala upp genereringen av molekylära data inom hälso- och sjukvården? Kan storskaliga molekylära analyser bidra till att hälso- och sjukvården ökar sitt fokus på förebyggande åtgärder och tidig diagnostik? Hur kan vi hitta en modell för att på ett smidigt sätt testa och integrera nya teknologier för precisionshälsa inom vården och vem ansvarar för vad i processen – vad är akademins\, regionernas och industrins roll? \n\n\n\nMedverkande\n\n\n\nAnders Hagfeldt\, rektor\, UUÅsa Johansson\, doc. i molekylär epidemiologi\, UU\, SciLifeLabFrida Lundmark\, sakkunnig policy\, Lif – de forskande läkemedelsföretagenMarie Morell\, ordf. Regionstyrelsen\, Region ÖstergötlandRichard Rosenquist Brandell\, prof. och överläkare i klinisk genetik\, KI\, Karolinska Universitetssjukhuset\, GMSPatrik Rossi\, tf. sjukhusdirektör\, Karolinska UniversitetssjukhusetMia Phillipson\, moderator\, UU\, SciLifeLab \n\n\n\nArrangörsuppgifter:\n\n\n\nKontakt:  \n\n\n\nÅsa Johansson\, Uppsala universitet\, SciLifeLab\, Genomic Medicine Sweden\, asa.johansson@igp.uu.se \n\n\n\nEva Berglund\, Uppsala universitet\, SciLifeLab\, eva.berglund@scilifelab.uu.se
URL:https://www.scilifelab.se/event/hur-kan-storskaliga-molekylara-analyser-leda-till-precisionshalsa/
LOCATION:D-huset\, Campus Gotland\, Kaserngatan 1\, Visby\, Sweden
CATEGORIES:Event
ATTACH;FMTTYPE=image/jpeg:https://www.scilifelab.se/wp-content/uploads/2023/08/Almedalen-2023-2-scaled.jpeg
ORGANIZER;CN="SciLifeLab i Almedalen":MAILTO:events@scilifelab.se
END:VEVENT
END:VCALENDAR