BEGIN:VCALENDAR
VERSION:2.0
PRODID:-//SciLifeLab - ECPv6.15.20//NONSGML v1.0//EN
CALSCALE:GREGORIAN
METHOD:PUBLISH
X-WR-CALNAME:SciLifeLab
X-ORIGINAL-URL:https://www.scilifelab.se
X-WR-CALDESC:Events for SciLifeLab
REFRESH-INTERVAL;VALUE=DURATION:PT1H
X-Robots-Tag:noindex
X-PUBLISHED-TTL:PT1H
BEGIN:VTIMEZONE
TZID:Europe/Stockholm
BEGIN:DAYLIGHT
TZOFFSETFROM:+0100
TZOFFSETTO:+0200
TZNAME:CEST
DTSTART:20230326T010000
END:DAYLIGHT
BEGIN:STANDARD
TZOFFSETFROM:+0200
TZOFFSETTO:+0100
TZNAME:CET
DTSTART:20231029T010000
END:STANDARD
BEGIN:DAYLIGHT
TZOFFSETFROM:+0100
TZOFFSETTO:+0200
TZNAME:CEST
DTSTART:20240331T010000
END:DAYLIGHT
BEGIN:STANDARD
TZOFFSETFROM:+0200
TZOFFSETTO:+0100
TZNAME:CET
DTSTART:20241027T010000
END:STANDARD
BEGIN:DAYLIGHT
TZOFFSETFROM:+0100
TZOFFSETTO:+0200
TZNAME:CEST
DTSTART:20250330T010000
END:DAYLIGHT
BEGIN:STANDARD
TZOFFSETFROM:+0200
TZOFFSETTO:+0100
TZNAME:CET
DTSTART:20251026T010000
END:STANDARD
END:VTIMEZONE
BEGIN:VEVENT
DTSTART;TZID=Europe/Stockholm:20240416T121500
DTEND;TZID=Europe/Stockholm:20240416T130000
DTSTAMP:20260421T062511
CREATED:20240409T072912Z
LAST-MODIFIED:20240409T072914Z
UID:166081-1713269700-1713272400@www.scilifelab.se
SUMMARY:InfraVis\, a National Research Infrastructure For Data Visualization
DESCRIPTION:In the frame of the “SciLifeLab Site Umeå / KBC Infrastructure Seminar Series”\, the seminars will be organised every second Tuesday during spring 2024. The seminars will be held in a hybrid format – IRL in Glasburen\, KBC\, Umeå\, and online via Zoom. Learn more about the seminar series and Schedule for Spring 2024 here. \n\n\n\nOn 16 April\, at 12:15\, SciLifeLab Site Umeå / KBC Infrastructure Seminar Series presents: \n\n\n\nInfraVis\, a National Research Infrastructure For Data Visualization\n\n\n\nSpeakers: \n\n\n\nKarin Danielsson\, Associate Professor at the Department of Informatics\, Director of Humlab at the Faculty of Arts and Humanities\, and a member of InfraVis Steering Committee \n\n\n\nEvelina Liliequist\, Associate Professor at Humlab\, researcher at Centre for Regional Science at Umeå University\, and the node coordinator for UmU/Humlab in InfraVis \n\n\n\nDescription: The seminar will be a presentation of InfraVis\, a National Research Infrastructure For Data Visualization funded by VR. InfraVis aims to significantly improve data analysis support\, address new challenges involving large and complex data and create competitive advantages for researchers associated with Swedish universities or research institutes. \n\n\n\nInfraVis assists individual researchers\, research teams and research projects to visualize their research data from any scientific domain. Our definition of the term “visualization” includes all stages of data analysis in the visualization pipeline. Statistics\, machine learning\, and other tools are a part of the InfraVis arsenal. The data-driven analysis produces results that\, through methodical design\, have visual representations. These visual representations\, when interactive\, are visualizations that exploit the extraordinary ability of the human brain to detect\, classify\, and relate patterns and anomalies visually. InfraVis experts give access to state-of-the-art visualization competence\, support\, equipment\, training\, and methods. \n\n\n\nWe aim for more researchers at UmU to take advantage of the support InfraVis can bring. During the seminar we will explain further the possibilities with the infrastructure\, visualization expertise available\, and present some examples of InfraVis visualizations. \n\n\n\nLink to website: https://infravis.se \n\n\n\nRegistration: Sign up for the IRL seminar and reserve your free lunch (sandwich\, drink\, and little sweet snack) by Monday\, 15 April\, 10:00 a.m.: \n\n\n\n\nhttps://www.umu.se/en/chemical-biological-centre/kbc_events/registration-form-infrastructure-seminar2\n\n\n\n\nor follow online (registration is not required): \n\n\n\nMeeting URL: https://umu.zoom.us/j/67909354528Meeting ID: 679 0935 4528 \n\n\n\nOrganisers: SciLifeLab Site Umeå and Chemical Biological Centre (KBC)\, Umeå
URL:https://www.scilifelab.se/event/infravis-a-national-research-infrastructure-for-data-visualization/
LOCATION:Glasburen Seminar Room\, Chemical Biological Centre (KBC) Building\, Umeå University\, Umeå\, 901 87\, Sweden
CATEGORIES:Event
ORGANIZER;CN="SciLifeLab Ume%C3%A5":MAILTO:umea@scilifelab.se
END:VEVENT
END:VCALENDAR