BEGIN:VCALENDAR
VERSION:2.0
PRODID:-//SciLifeLab - ECPv6.15.20//NONSGML v1.0//EN
CALSCALE:GREGORIAN
METHOD:PUBLISH
X-WR-CALNAME:SciLifeLab
X-ORIGINAL-URL:https://www.scilifelab.se
X-WR-CALDESC:Events for SciLifeLab
REFRESH-INTERVAL;VALUE=DURATION:PT1H
X-Robots-Tag:noindex
X-PUBLISHED-TTL:PT1H
BEGIN:VTIMEZONE
TZID:Europe/Stockholm
BEGIN:DAYLIGHT
TZOFFSETFROM:+0100
TZOFFSETTO:+0200
TZNAME:CEST
DTSTART:20240331T010000
END:DAYLIGHT
BEGIN:STANDARD
TZOFFSETFROM:+0200
TZOFFSETTO:+0100
TZNAME:CET
DTSTART:20241027T010000
END:STANDARD
BEGIN:DAYLIGHT
TZOFFSETFROM:+0100
TZOFFSETTO:+0200
TZNAME:CEST
DTSTART:20250330T010000
END:DAYLIGHT
BEGIN:STANDARD
TZOFFSETFROM:+0200
TZOFFSETTO:+0100
TZNAME:CET
DTSTART:20251026T010000
END:STANDARD
BEGIN:DAYLIGHT
TZOFFSETFROM:+0100
TZOFFSETTO:+0200
TZNAME:CEST
DTSTART:20260329T010000
END:DAYLIGHT
BEGIN:STANDARD
TZOFFSETFROM:+0200
TZOFFSETTO:+0100
TZNAME:CET
DTSTART:20261025T010000
END:STANDARD
END:VTIMEZONE
BEGIN:VEVENT
DTSTART;TZID=Europe/Stockholm:20250408T140000
DTEND;TZID=Europe/Stockholm:20250408T160000
DTSTAMP:20260421T122955
CREATED:20250317T085043Z
LAST-MODIFIED:20250318T154905Z
UID:183260-1744120800-1744128000@www.scilifelab.se
SUMMARY:Innovation Through Collaboration
DESCRIPTION:Innovation Through Collaboration:AstraZeneca Open Innovation & Collaborative Insights from Malin Wickström & Arne Östman from Karolinska InstitutetBjörn Tyberg\, PhD and PIpresents AstraZeneca Open Innovation \n\n\n\nTOPICS TO BE COVERED \n\n\n\n\nCoSolve challenges\n\n\n\nPreclinical compound sharing\n\n\n\nCompound screening collaborations: Diversity screens\, Phenotypic screens\, Bespoke library screens and Secretome & other libraries\n\n\n\n\nTime will be given afterwards for 1:1 project discussions with interested investigators. To book a time slot\, please contact per.moberg@ki.se \n\n\n\nWe will meet up with individuals who do not have access to SciLifeLab at the reception at 13:55 \n\n\n\nTo book a time slot\, please contact per.moberg@ki.se
URL:https://www.scilifelab.se/event/innovation-through-collaboration/
LOCATION:Gamma 2 Lunchroom\, SciLifeLab\, Tomtebodavägen 23\, Solna\, Sweden
CATEGORIES:Event
END:VEVENT
END:VCALENDAR