BEGIN:VCALENDAR
VERSION:2.0
PRODID:-//SciLifeLab - ECPv6.15.20//NONSGML v1.0//EN
CALSCALE:GREGORIAN
METHOD:PUBLISH
X-WR-CALNAME:SciLifeLab
X-ORIGINAL-URL:https://www.scilifelab.se
X-WR-CALDESC:Events for SciLifeLab
REFRESH-INTERVAL;VALUE=DURATION:PT1H
X-Robots-Tag:noindex
X-PUBLISHED-TTL:PT1H
BEGIN:VTIMEZONE
TZID:Europe/Stockholm
BEGIN:DAYLIGHT
TZOFFSETFROM:+0100
TZOFFSETTO:+0200
TZNAME:CEST
DTSTART:20230326T010000
END:DAYLIGHT
BEGIN:STANDARD
TZOFFSETFROM:+0200
TZOFFSETTO:+0100
TZNAME:CET
DTSTART:20231029T010000
END:STANDARD
BEGIN:DAYLIGHT
TZOFFSETFROM:+0100
TZOFFSETTO:+0200
TZNAME:CEST
DTSTART:20240331T010000
END:DAYLIGHT
BEGIN:STANDARD
TZOFFSETFROM:+0200
TZOFFSETTO:+0100
TZNAME:CET
DTSTART:20241027T010000
END:STANDARD
BEGIN:DAYLIGHT
TZOFFSETFROM:+0100
TZOFFSETTO:+0200
TZNAME:CEST
DTSTART:20250330T010000
END:DAYLIGHT
BEGIN:STANDARD
TZOFFSETFROM:+0200
TZOFFSETTO:+0100
TZNAME:CET
DTSTART:20251026T010000
END:STANDARD
END:VTIMEZONE
BEGIN:VEVENT
DTSTART;TZID=Europe/Stockholm:20240522T160000
DTEND;TZID=Europe/Stockholm:20240522T170000
DTSTAMP:20260422T090416
CREATED:20240402T112908Z
LAST-MODIFIED:20240402T112910Z
UID:165934-1716393600-1716397200@www.scilifelab.se
SUMMARY:Insights into Human Atherosclerosis using novel tools for Spatial biology
DESCRIPTION:Sikander Hayat\, Translational Data Science\, Uniklinik Aachen \n\n\n\nInsights into Human Atherosclerosis using novel tools for Spatial biology \n\n\n\nSingle-cell and spatial technologies are paving the way to understand human health\, disease and aging at unprecedented resolution. How can we best leverage diverse multi-omics data to generate testable hypothesis and contribute to developing optimal precision therapies and biomarkers for human disease conditions? \n\n\n\nHayat lab is a new and interdisciplinary computational lab at the Institute of Experimental Medicine and Systems Biology\, UniKlinik Aachen. Our group focuses on developing computational tools for systematically analyzing\, interpreting and visualizing data from single-cell technologies such as single-cell transcriptomics\, spatial transcriptomics and high-content imaging. \n\n\n\nA key theme in our lab is to develop scalable and efficient tools to leverage data from millions of single-cells to understand disease\, health and aging. Some of the research areas we are working on include:   \n\n\n\n\nIdentifying novel targets and biomarkers for fibrosis in kidney and heart\,\n\n\n\nUnderstand mechanisms of heart failure at single-cell resolution\,\n\n\n\nElucidate processes involved in aging at single-cell resolution\,\n\n\n\nPrioritize high-impact mutations in cardio-renal disease\,\n\n\n\nDevelop tools for automated cell-type annotation\, multi-omics data integration\, and interactive data visualization\n\n\n\n\nWe work in very close collaboration with medical doctors and experimentalists in the Krammanlab (www.kramannlab.com) at UniKlinik RWTH Aachen.
URL:https://www.scilifelab.se/event/insights-into-human-atherosclerosis-using-novel-tools-for-spatial-biology/
LOCATION:Air&Fire\, SciLifeLab Stockholm\, Tomtebodavägen 23A\, Solna\, Sweden
CATEGORIES:Event
END:VEVENT
END:VCALENDAR