BEGIN:VCALENDAR
VERSION:2.0
PRODID:-//SciLifeLab - ECPv6.15.20//NONSGML v1.0//EN
CALSCALE:GREGORIAN
METHOD:PUBLISH
X-WR-CALNAME:SciLifeLab
X-ORIGINAL-URL:https://www.scilifelab.se
X-WR-CALDESC:Events for SciLifeLab
REFRESH-INTERVAL;VALUE=DURATION:PT1H
X-Robots-Tag:noindex
X-PUBLISHED-TTL:PT1H
BEGIN:VTIMEZONE
TZID:Europe/Stockholm
BEGIN:DAYLIGHT
TZOFFSETFROM:+0100
TZOFFSETTO:+0200
TZNAME:CEST
DTSTART:20240331T010000
END:DAYLIGHT
BEGIN:STANDARD
TZOFFSETFROM:+0200
TZOFFSETTO:+0100
TZNAME:CET
DTSTART:20241027T010000
END:STANDARD
BEGIN:DAYLIGHT
TZOFFSETFROM:+0100
TZOFFSETTO:+0200
TZNAME:CEST
DTSTART:20250330T010000
END:DAYLIGHT
BEGIN:STANDARD
TZOFFSETFROM:+0200
TZOFFSETTO:+0100
TZNAME:CET
DTSTART:20251026T010000
END:STANDARD
BEGIN:DAYLIGHT
TZOFFSETFROM:+0100
TZOFFSETTO:+0200
TZNAME:CEST
DTSTART:20260329T010000
END:DAYLIGHT
BEGIN:STANDARD
TZOFFSETFROM:+0200
TZOFFSETTO:+0100
TZNAME:CET
DTSTART:20261025T010000
END:STANDARD
END:VTIMEZONE
BEGIN:VEVENT
DTSTART;TZID=Europe/Stockholm:20250520T151500
DTEND;TZID=Europe/Stockholm:20250520T161500
DTSTAMP:20260421T112917
CREATED:20250403T052034Z
LAST-MODIFIED:20250505T120258Z
UID:184434-1747754100-1747757700@www.scilifelab.se
SUMMARY:[Spotlight seminar] Investigating the regulatory impact of rare non-coding somatic mutations in cancer
DESCRIPTION:Spotlight seminar series proudly presents Lude Franke\, Professor of functional genomics\, University Medical Centre Groningen\, The Netherlands \n\n\n\n\n\n\n\nAbstract\n\n\n\nBoth germline and somatic variation play an important role in cancer. In the past years a lot of progress has been made in the identification of germline variants that confer cancer risk\, and a large number of somatic driver mutations have now been found. Here\, we set out to study the role of non-coding somatic mutations in cancer and studied whole-genome sequence data of 25\,000 cancer patients where we employed sequence-based models to identify hundreds of non-coding regions that are enriched for activating or repressing mutations. We subsequently studied how these non-coding somatic mutations cause disease and observed these mutations are related to known somatic driver genes ad germline risk variants  through when employing gene regulatory networks. I will discuss how such gene regulatory networks can be reconstructed using trans-eQTL data in 43\,000 invidiuals.  \n\n\n\nBiography\n\n\n\nLude Franke develops and applies computational methods to understand the downstream molecular consequences of genetic risk factors. We studied the effect of somatic copy number alterations on gene expression levels (Fehrmann et al\, Nature Genetics 2015) and studied the effect of genetic single-nucleotide polymorphism on methylation (Bonder et al\, Nature Genetics 2017) and gene expression (i.e. expression quantitative trait loci)\, both in blood using bulk data (Zhernakova et al\, Nature Genetics 2017 and Vosa et al\, Nature Genetics 2021) and single-cell data (Van der Wijst\, Nature Genetics 2018). Recently\, we did this in brain (De Klein\, Nature Genetics 2023). We lead the eQTLGen and single-cell eQTL consortia (see eQTLGen.org)\, where we use federated meta-analyses approaches to generate comprehensive maps how genetic variation is exerting cell-type and context-specific effects on gene expression\, with the aim to help identify and validate drug targets.
URL:https://www.scilifelab.se/event/investigating-the-regulatory-impact-of-rare-non-coding-somatic-mutations-in-cancer/
LOCATION:Gamma 2 Lunchroom\, SciLifeLab\, Tomtebodavägen 23\, Solna\, Sweden
CATEGORIES:Event
ATTACH;FMTTYPE=image/jpeg:https://www.scilifelab.se/wp-content/uploads/2023/10/Campus-solna-seminar-picture.jpg
ORGANIZER;CN="Spotlight Seminar Series":MAILTO:events@scilifelab.se
END:VEVENT
END:VCALENDAR