BEGIN:VCALENDAR
VERSION:2.0
PRODID:-//SciLifeLab - ECPv6.15.20//NONSGML v1.0//EN
CALSCALE:GREGORIAN
METHOD:PUBLISH
X-WR-CALNAME:SciLifeLab
X-ORIGINAL-URL:https://www.scilifelab.se
X-WR-CALDESC:Events for SciLifeLab
REFRESH-INTERVAL;VALUE=DURATION:PT1H
X-Robots-Tag:noindex
X-PUBLISHED-TTL:PT1H
BEGIN:VTIMEZONE
TZID:Europe/Stockholm
BEGIN:DAYLIGHT
TZOFFSETFROM:+0100
TZOFFSETTO:+0200
TZNAME:CEST
DTSTART:20230326T010000
END:DAYLIGHT
BEGIN:STANDARD
TZOFFSETFROM:+0200
TZOFFSETTO:+0100
TZNAME:CET
DTSTART:20231029T010000
END:STANDARD
BEGIN:DAYLIGHT
TZOFFSETFROM:+0100
TZOFFSETTO:+0200
TZNAME:CEST
DTSTART:20240331T010000
END:DAYLIGHT
BEGIN:STANDARD
TZOFFSETFROM:+0200
TZOFFSETTO:+0100
TZNAME:CET
DTSTART:20241027T010000
END:STANDARD
BEGIN:DAYLIGHT
TZOFFSETFROM:+0100
TZOFFSETTO:+0200
TZNAME:CEST
DTSTART:20250330T010000
END:DAYLIGHT
BEGIN:STANDARD
TZOFFSETFROM:+0200
TZOFFSETTO:+0100
TZNAME:CET
DTSTART:20251026T010000
END:STANDARD
END:VTIMEZONE
BEGIN:VEVENT
DTSTART;TZID=Europe/Stockholm:20240213T094500
DTEND;TZID=Europe/Stockholm:20240213T153000
DTSTAMP:20260423T000049
CREATED:20240205T094820Z
LAST-MODIFIED:20240212T154340Z
UID:162397-1707817500-1707838200@www.scilifelab.se
SUMMARY:Karolinska Institutet DDLS Fellows – Public research seminars with candidates
DESCRIPTION:Welcome to attend research seminars presented by candidates for the following positions:1. DDLS Fellow in Data-Driven Epidemiology and Biology of Infection2. DDLS Fellow in Data-Driven Precision Medicine and Diagnostics \n\n\n\nPart 1. 13 February 2024: DDLS Fellow in Data-Driven Epidemiology and Biology of Infection\n\n\n\nNAMECURRENT AFFILIATIONTIMESupriya KhedkarNA10:00-10:20Andreas LuttensMassachusetts Institute of Technology10:20-10:40Shilpa RayKarolinska Institutet10:40-11:00\n\n\n\nPart 2. 13 February 2024: DDLS Fellow in Data-Driven Precision Medicine and Diagnostics\n\n\n\nNAMECURRENT AFFILIATIONTIMEKimmo KartasaloKarolinska Institutet13:00-13:20David MarleviMassachusetts Institute of Technology and Karolinska Institutet13:20-13:40Amirata Saei DibavarUniversity of Basel and Karolinska Institutet13:40-14:00Alexa McIntyreUniversity of Zurich14:30-14:50Antônio Horta RibeiroUppsala University14:50-15:10Daniel HageyKarolinska Institutet15:10-15:30
URL:https://www.scilifelab.se/event/karolinska-institutet-ddls-fellows-public-research-seminars-with-candidates/
LOCATION:Online event via Zoom
CATEGORIES:Event
END:VEVENT
END:VCALENDAR