BEGIN:VCALENDAR
VERSION:2.0
PRODID:-//SciLifeLab - ECPv6.15.20//NONSGML v1.0//EN
CALSCALE:GREGORIAN
METHOD:PUBLISH
X-WR-CALNAME:SciLifeLab
X-ORIGINAL-URL:https://www.scilifelab.se
X-WR-CALDESC:Events for SciLifeLab
REFRESH-INTERVAL;VALUE=DURATION:PT1H
X-Robots-Tag:noindex
X-PUBLISHED-TTL:PT1H
BEGIN:VTIMEZONE
TZID:Europe/Stockholm
BEGIN:DAYLIGHT
TZOFFSETFROM:+0100
TZOFFSETTO:+0200
TZNAME:CEST
DTSTART:20230326T010000
END:DAYLIGHT
BEGIN:STANDARD
TZOFFSETFROM:+0200
TZOFFSETTO:+0100
TZNAME:CET
DTSTART:20231029T010000
END:STANDARD
BEGIN:DAYLIGHT
TZOFFSETFROM:+0100
TZOFFSETTO:+0200
TZNAME:CEST
DTSTART:20240331T010000
END:DAYLIGHT
BEGIN:STANDARD
TZOFFSETFROM:+0200
TZOFFSETTO:+0100
TZNAME:CET
DTSTART:20241027T010000
END:STANDARD
BEGIN:DAYLIGHT
TZOFFSETFROM:+0100
TZOFFSETTO:+0200
TZNAME:CEST
DTSTART:20250330T010000
END:DAYLIGHT
BEGIN:STANDARD
TZOFFSETFROM:+0200
TZOFFSETTO:+0100
TZNAME:CET
DTSTART:20251026T010000
END:STANDARD
END:VTIMEZONE
BEGIN:VEVENT
DTSTART;TZID=Europe/Stockholm:20240930T080000
DTEND;TZID=Europe/Stockholm:20241002T170000
DTSTAMP:20260422T001707
CREATED:20240521T064747Z
LAST-MODIFIED:20240521T064748Z
UID:167985-1727683200-1727888400@www.scilifelab.se
SUMMARY:Metabolomics in Molecular Medicine - from idea to data interpretation
DESCRIPTION:A jointly organized workshop by the Swedish Metabolomics Centre (SMC) and FIMM’s Metabolomics Unit – University of Helsinki providing an introduction to different aspects of metabolomics\, from experimental design to data analysis. The programme consists of a public symposium on the first day and practical elements for workshop participants on days 2-3. Workshop participants are also expected to attend the symposium on the first day. \n\n\n\nRead more\n\n\n\nMetabolomics measures small molecules commonly known as metabolites that all together comprise a metabolome of a biological system. Since metabolome is a reflection of physiological status\, metabolomics helps us to understand molecular mechanisms such as drug responses and to find new indicators for diseases. \n\n\n\nThis workshop provides an introduction to mass spectrometry-based metabolomics with a special focus on its applications in molecular medicine. The workshop starts with a mini-symposium where the experts in the field discuss the recent advancements and applications in metabolomics research in life sciences. The following two days of practical training will cover the metabolomics workflow from the principles of experimental design\, sample preparation\, theory of chromatographic separation and mass spectrometry to data acquisition\, pre-processing\, analysis and interpretation. \n\n\n\nContact \n\n\n\nAnnika Johansson \n\n\n\nEmail \n\n\n\n+46 90 786 55 51
URL:https://www.scilifelab.se/event/metabolomics-in-molecular-medicine-from-idea-to-data-interpretation/
LOCATION:KBC Building Umeå\, Linneaus Väg 6\, Umeå
CATEGORIES:Event
ORGANIZER;CN="Swedish Metabolomics Centre (SMC)":MAILTO:annika.johansson01@umu.se
END:VEVENT
END:VCALENDAR