BEGIN:VCALENDAR
VERSION:2.0
PRODID:-//SciLifeLab - ECPv6.15.20//NONSGML v1.0//EN
CALSCALE:GREGORIAN
METHOD:PUBLISH
X-WR-CALNAME:SciLifeLab
X-ORIGINAL-URL:https://www.scilifelab.se
X-WR-CALDESC:Events for SciLifeLab
REFRESH-INTERVAL;VALUE=DURATION:PT1H
X-Robots-Tag:noindex
X-PUBLISHED-TTL:PT1H
BEGIN:VTIMEZONE
TZID:Europe/Stockholm
BEGIN:DAYLIGHT
TZOFFSETFROM:+0100
TZOFFSETTO:+0200
TZNAME:CEST
DTSTART:20230326T010000
END:DAYLIGHT
BEGIN:STANDARD
TZOFFSETFROM:+0200
TZOFFSETTO:+0100
TZNAME:CET
DTSTART:20231029T010000
END:STANDARD
BEGIN:DAYLIGHT
TZOFFSETFROM:+0100
TZOFFSETTO:+0200
TZNAME:CEST
DTSTART:20240331T010000
END:DAYLIGHT
BEGIN:STANDARD
TZOFFSETFROM:+0200
TZOFFSETTO:+0100
TZNAME:CET
DTSTART:20241027T010000
END:STANDARD
BEGIN:DAYLIGHT
TZOFFSETFROM:+0100
TZOFFSETTO:+0200
TZNAME:CEST
DTSTART:20250330T010000
END:DAYLIGHT
BEGIN:STANDARD
TZOFFSETFROM:+0200
TZOFFSETTO:+0100
TZNAME:CET
DTSTART:20251026T010000
END:STANDARD
END:VTIMEZONE
BEGIN:VEVENT
DTSTART;TZID=Europe/Stockholm:20241011T100000
DTEND;TZID=Europe/Stockholm:20241011T160000
DTSTAMP:20260421T224229
CREATED:20240918T071315Z
LAST-MODIFIED:20240920T060502Z
UID:172995-1728640800-1728662400@www.scilifelab.se
SUMMARY:Microsampling- New Avenues for Metabolomics in Precision Health
DESCRIPTION:The Metrabolomics Platform arranges a one day seminar on “Microsampling- New Avenues for Metabolomics in Precision Health” together with the Nordic Metabolomics Society.  \n\n\n\n\n\n\n\nProgram\n\n\n\n10.00Welcome\,Rikard Landberg (SciLifeLab& Chalmers) & Alex Dickens (Nordic Metabolomics Society10.10Microsampling in Metabolomics- Enabler of Precision Health?Timothy Garrett (University of Florida)10.40High-throughput NMR-based metabolmics on microsamplesPeter Würtz (Nightingale)11.10New microsampling techniquesNiclas Roxhed (KTH)11.30Evaluation of microsampling techniques for lipidomics and exposomicsTuulia Hyötyläinen (Örebro University)11.50Metabolomics and microsampling across labsAlex Dickens (University of Turku)12.10SciLife-platform microsampling project and the SCAPIS2-HOME studyRikard Landberg (Scilifelab & Chalmers)12.30Lunch13.30Microsampling devices for nontarget chemical exposomicsSolveigh Thiele (SciLifeLab & Stockholm University)13.50Microsampling in high-through proteomicsClaudia Fredolini (Scilifelab)14.10Pitches of available microsampling techniquesProducers/vendors of microsampling devices15.00Discussion focused on the way forward15.45Concluding remarks and the way forwardRikard Landberg (SciLifeLab& Chalmers\n\n\n\nRegistration\n\n\n\nHow to get there\n\n\n\nBusLine 3\, 6\, 77\, 507 from S:t Eriksplan. Get off at Karolinska Institutet\, Biomedicum.Line 53 and 72 från Odenplan. Get off at Karolinska Institutet west which is next to Berzeliuslaboratory.  \n\n\n\nSubwayNearest station is S:t Eriksplan (exit Torsgatan)\, from where it takes 15-20 min walking to the Berzelius laboratory Odenplan – take bus 53 och 72. \n\n\n\nCarIf you arrive by car\,  parkeringshuset Skruven is the closest partking to the Berzeliuslaboratory https://www.aimopark.se/stader/solna/campus-solna/ \n\n\n\nPlease note that the Main Entrance to Campus Solna is currently closed due to the construction of a new subway station. There are several options to enter the campus from Solnavägen for those who walk or cycle. For those coming by car\, you must come via Tomtebodavägen\, where the nearest parking garage in connection with the conference is also located. \n\n\n\n\n\n\n\n\n\n\n\n\n\nContact: Rikard Landberg rikard.landberg@chalmers.se
URL:https://www.scilifelab.se/event/microsampling-new-avenues-for-metabolomics-in-precision-health/
LOCATION:Andreas Vesalius Lecture Hall\, Karolinska Institutet\, Berzelius väg 3\, Solna\, 171 65\, Sweden
CATEGORIES:Event
ATTACH;FMTTYPE=image/jpeg:https://www.scilifelab.se/wp-content/uploads/2024/09/21A6061_frikopt-scaled.jpg
END:VEVENT
END:VCALENDAR