BEGIN:VCALENDAR
VERSION:2.0
PRODID:-//SciLifeLab - ECPv6.15.20//NONSGML v1.0//EN
CALSCALE:GREGORIAN
METHOD:PUBLISH
X-WR-CALNAME:SciLifeLab
X-ORIGINAL-URL:https://www.scilifelab.se
X-WR-CALDESC:Events for SciLifeLab
REFRESH-INTERVAL;VALUE=DURATION:PT1H
X-Robots-Tag:noindex
X-PUBLISHED-TTL:PT1H
BEGIN:VTIMEZONE
TZID:Europe/Stockholm
BEGIN:DAYLIGHT
TZOFFSETFROM:+0100
TZOFFSETTO:+0200
TZNAME:CEST
DTSTART:20230326T010000
END:DAYLIGHT
BEGIN:STANDARD
TZOFFSETFROM:+0200
TZOFFSETTO:+0100
TZNAME:CET
DTSTART:20231029T010000
END:STANDARD
BEGIN:DAYLIGHT
TZOFFSETFROM:+0100
TZOFFSETTO:+0200
TZNAME:CEST
DTSTART:20240331T010000
END:DAYLIGHT
BEGIN:STANDARD
TZOFFSETFROM:+0200
TZOFFSETTO:+0100
TZNAME:CET
DTSTART:20241027T010000
END:STANDARD
BEGIN:DAYLIGHT
TZOFFSETFROM:+0100
TZOFFSETTO:+0200
TZNAME:CEST
DTSTART:20250330T010000
END:DAYLIGHT
BEGIN:STANDARD
TZOFFSETFROM:+0200
TZOFFSETTO:+0100
TZNAME:CET
DTSTART:20251026T010000
END:STANDARD
END:VTIMEZONE
BEGIN:VEVENT
DTSTART;TZID=Europe/Stockholm:20241220T110000
DTEND;TZID=Europe/Stockholm:20241220T120000
DTSTAMP:20260421T205840
CREATED:20241203T154235Z
LAST-MODIFIED:20241218T134310Z
UID:177087-1734692400-1734696000@www.scilifelab.se
SUMMARY:Cancelled: My health\, my data - Privacy-preserving AI in systems medicine
DESCRIPTION:Dec 19:This event is unfortunately cancelled. \n\n\n\n\n\n\n\n \n\n\n\nProf. Jan Baumbach\, Computational Systems Biology\, University of Hamburg \n\n\n\nAbstract \n\n\n\nEuropean Health Data Spaces\, national digital health records archives and similar initiatives aim to provide a mixture of legal and technical frameworks to make privacy-sensitive medical data available for data mining. The ultimate goal is to access the yet behind legal barriers hidden healthcare data treasure in order to train prognostic models for personalized medicine – from disease management to individualized drug repurposing prediction. The biggest road block is the GDPR. In the talk\, we will discuss federated learning technology that – coupled to other privacy-enhancing technologies – allows for a secure multi-center data mining collaboration. Specifically\, we will demonstrate that it does provide as accurate results as centralized solutions. We will discuss concrete applications for multi-centric genome-wide association studies\, for meta-genomics\, transcriptomics and proteomics analysis including batch effect correction\, and for survival time analysis. One applications involved >1\,000 hospitals in North America\, another one involves >100\,000 European screening participants. Finally\, we discuss the limitations and future prospects of federated learning in biomedicine and healthcare data mining.
URL:https://www.scilifelab.se/event/my-health-my-data-privacy-preserving-ai-in-systems-medicine/
LOCATION:Air&Fire\, SciLifeLab Stockholm\, Tomtebodavägen 23A\, Solna\, Sweden
CATEGORIES:Event
END:VEVENT
END:VCALENDAR