BEGIN:VCALENDAR
VERSION:2.0
PRODID:-//SciLifeLab - ECPv6.15.20//NONSGML v1.0//EN
CALSCALE:GREGORIAN
METHOD:PUBLISH
X-WR-CALNAME:SciLifeLab
X-ORIGINAL-URL:https://www.scilifelab.se
X-WR-CALDESC:Events for SciLifeLab
REFRESH-INTERVAL;VALUE=DURATION:PT1H
X-Robots-Tag:noindex
X-PUBLISHED-TTL:PT1H
BEGIN:VTIMEZONE
TZID:Europe/Stockholm
BEGIN:DAYLIGHT
TZOFFSETFROM:+0100
TZOFFSETTO:+0200
TZNAME:CEST
DTSTART:20210328T010000
END:DAYLIGHT
BEGIN:STANDARD
TZOFFSETFROM:+0200
TZOFFSETTO:+0100
TZNAME:CET
DTSTART:20211031T010000
END:STANDARD
BEGIN:DAYLIGHT
TZOFFSETFROM:+0100
TZOFFSETTO:+0200
TZNAME:CEST
DTSTART:20220327T010000
END:DAYLIGHT
BEGIN:STANDARD
TZOFFSETFROM:+0200
TZOFFSETTO:+0100
TZNAME:CET
DTSTART:20221030T010000
END:STANDARD
BEGIN:DAYLIGHT
TZOFFSETFROM:+0100
TZOFFSETTO:+0200
TZNAME:CEST
DTSTART:20230326T010000
END:DAYLIGHT
BEGIN:STANDARD
TZOFFSETFROM:+0200
TZOFFSETTO:+0100
TZNAME:CET
DTSTART:20231029T010000
END:STANDARD
END:VTIMEZONE
BEGIN:VEVENT
DTSTART;TZID=Europe/Stockholm:20221108T120000
DTEND;TZID=Europe/Stockholm:20221108T130000
DTSTAMP:20260424T072418
CREATED:20220927T104558Z
LAST-MODIFIED:20220927T104712Z
UID:143893-1667908800-1667912400@www.scilifelab.se
SUMMARY:NBIS - Bioinformatics and data support at SciLifeLab
DESCRIPTION:NBIS – Bioinformatics and data support at SciLifeLab\n\n\n\nThomas Svensson \n\n\n\nNBIS\, National Bioinformatics Infrastructure Sweden\, is a distributed national research infrastructure. We are the SciLifeLab bioinformatics platform and the Swedish node in Elixir\, a European intergovernmental organisation bringing together life science resources from across Europe. We offer bioinformatics support\, infrastructure and training. \n\n\n\nSciLifeLab is a national infrastructure within life science with a wide range of advanced technology and expertise. The newly started SciLifeLab site in Gothenburg includes units at both the University of Gothenburg and Chalmers University of Technology and has a strong connection to Sahlgrenska University Hospital. \n\n\n\nA light lunch will be offered during the talks for those joining on site. Online participation via Zoom is also available\, please click the zoom-link below to join the event at the appointed time. \n\n\n\nVenue\n\n\n\nAssembly Room Birgit Thilander\, Medicinaregatan 3
URL:https://www.scilifelab.se/event/nbis-bioinformatics-and-data-support-at-scilifelab/
LOCATION:Birgit Thilander Lecture Hall\, Medicinaregatan 3\, Göteborg
CATEGORIES:Event
ORGANIZER;CN="SciLifeLab Gothenburg":MAILTO:gothenburg@scilifelab.se
END:VEVENT
END:VCALENDAR