BEGIN:VCALENDAR
VERSION:2.0
PRODID:-//SciLifeLab - ECPv6.15.20//NONSGML v1.0//EN
CALSCALE:GREGORIAN
METHOD:PUBLISH
X-WR-CALNAME:SciLifeLab
X-ORIGINAL-URL:https://www.scilifelab.se
X-WR-CALDESC:Events for SciLifeLab
REFRESH-INTERVAL;VALUE=DURATION:PT1H
X-Robots-Tag:noindex
X-PUBLISHED-TTL:PT1H
BEGIN:VTIMEZONE
TZID:Europe/Stockholm
BEGIN:DAYLIGHT
TZOFFSETFROM:+0100
TZOFFSETTO:+0200
TZNAME:CEST
DTSTART:20230326T010000
END:DAYLIGHT
BEGIN:STANDARD
TZOFFSETFROM:+0200
TZOFFSETTO:+0100
TZNAME:CET
DTSTART:20231029T010000
END:STANDARD
BEGIN:DAYLIGHT
TZOFFSETFROM:+0100
TZOFFSETTO:+0200
TZNAME:CEST
DTSTART:20240331T010000
END:DAYLIGHT
BEGIN:STANDARD
TZOFFSETFROM:+0200
TZOFFSETTO:+0100
TZNAME:CET
DTSTART:20241027T010000
END:STANDARD
BEGIN:DAYLIGHT
TZOFFSETFROM:+0100
TZOFFSETTO:+0200
TZNAME:CEST
DTSTART:20250330T010000
END:DAYLIGHT
BEGIN:STANDARD
TZOFFSETFROM:+0200
TZOFFSETTO:+0100
TZNAME:CET
DTSTART:20251026T010000
END:STANDARD
END:VTIMEZONE
BEGIN:VEVENT
DTSTART;TZID=Europe/Stockholm:20240513T110000
DTEND;TZID=Europe/Stockholm:20240513T120000
DTSTAMP:20260422T111325
CREATED:20240430T071038Z
LAST-MODIFIED:20240513T045222Z
UID:167115-1715598000-1715601600@www.scilifelab.se
SUMMARY:New insights into the lateral organization of biological membranes: Investigating the role of membrane dipole potential and the midplane interface
DESCRIPTION:Seminar by Frederick A. Heberle\, Department of Chemistry\, University of Tennessee\, Knoxville\, TN\, USA \n\n\n\nAbstract\n\n\n\nCells can dynamically alter the spatial organization of lipids and proteins in the plasma membrane to regulate processes including cell signaling. The size and morphology of membrane domains\, and how these depend on lipid composition\, have drawn attention as potentially key variables in these processes. Model membrane studies have proven invaluable for elucidating the influence of phospholipid chains and headgroups\, as well as cholesterol concentration\, on membrane properties and phase behavior. Using this kind of bottom-up approach\, my group employs a diverse set of biophysical techniques including fluorescence microscopy and spectroscopy\, small-angle neutron scattering\, and cryogenic electron microscopy to characterize the phase behavior of lipid bilayer mixtures. In this talk\, I will show how two important yet poorly understood features of lipid membranes—namely\, the membrane dipole potential and the midplane interface of a compositionally asymmetric bilayer—can profoundly affect lateral lipid organization. \n\n\n\nZoom link
URL:https://www.scilifelab.se/event/new-insights-into-the-lateral-organization-of-biological-membranes-investigating-the-role-of-membrane-dipole-potential-and-the-midplane-interface/
LOCATION:Air&Fire\, SciLifeLab Stockholm\, Tomtebodavägen 23A\, Solna\, Sweden
CATEGORIES:Event
END:VEVENT
END:VCALENDAR