BEGIN:VCALENDAR
VERSION:2.0
PRODID:-//SciLifeLab - ECPv6.15.20//NONSGML v1.0//EN
CALSCALE:GREGORIAN
METHOD:PUBLISH
X-WR-CALNAME:SciLifeLab
X-ORIGINAL-URL:https://www.scilifelab.se
X-WR-CALDESC:Events for SciLifeLab
REFRESH-INTERVAL;VALUE=DURATION:PT1H
X-Robots-Tag:noindex
X-PUBLISHED-TTL:PT1H
BEGIN:VTIMEZONE
TZID:Europe/Stockholm
BEGIN:DAYLIGHT
TZOFFSETFROM:+0100
TZOFFSETTO:+0200
TZNAME:CEST
DTSTART:20210328T010000
END:DAYLIGHT
BEGIN:STANDARD
TZOFFSETFROM:+0200
TZOFFSETTO:+0100
TZNAME:CET
DTSTART:20211031T010000
END:STANDARD
BEGIN:DAYLIGHT
TZOFFSETFROM:+0100
TZOFFSETTO:+0200
TZNAME:CEST
DTSTART:20220327T010000
END:DAYLIGHT
BEGIN:STANDARD
TZOFFSETFROM:+0200
TZOFFSETTO:+0100
TZNAME:CET
DTSTART:20221030T010000
END:STANDARD
BEGIN:DAYLIGHT
TZOFFSETFROM:+0100
TZOFFSETTO:+0200
TZNAME:CEST
DTSTART:20230326T010000
END:DAYLIGHT
BEGIN:STANDARD
TZOFFSETFROM:+0200
TZOFFSETTO:+0100
TZNAME:CET
DTSTART:20231029T010000
END:STANDARD
END:VTIMEZONE
BEGIN:VEVENT
DTSTART;TZID=Europe/Stockholm:20221206T120000
DTEND;TZID=Europe/Stockholm:20221206T130000
DTSTAMP:20260424T060007
CREATED:20220927T104924Z
LAST-MODIFIED:20221201T154038Z
UID:143903-1670328000-1670331600@www.scilifelab.se
SUMMARY:Cancelled: OligoNova Hub - National resource for development of oligonucleotide therapies
DESCRIPTION:OligoNova Hub – National resource for development of oligonucleotide therapies\n\n\n\nPär Matsson \n\n\n\nWe will present OligoNova Hub and the capabilities we provide for academic researchers to transform their scientific discoveries into new oligonucleotide therapies. \n\n\n\nSciLifeLab is a national infrastructure within life science with a wide range of advanced technology and expertise. The newly started SciLifeLab site in Gothenburg includes units at both the University of Gothenburg and Chalmers University of Technology and has a strong connection to Sahlgrenska University Hospital. \n\n\n\nA light lunch will be offered during the talks for those joining on site. Online participation via Zoom is also available\, please click the zoom-link below to join the event at the appointed time. \n\n\n\nVenue\n\n\n\nThis event has been cancelled.
URL:https://www.scilifelab.se/event/oligonova-hub-national-resource-for-development-of-oligonucleotide-therapies/
LOCATION:Birgit Thilander Lecture Hall\, Medicinaregatan 3\, Göteborg
CATEGORIES:Event
ORGANIZER;CN="SciLifeLab Gothenburg":MAILTO:gothenburg@scilifelab.se
END:VEVENT
END:VCALENDAR