BEGIN:VCALENDAR
VERSION:2.0
PRODID:-//SciLifeLab - ECPv6.15.20//NONSGML v1.0//EN
CALSCALE:GREGORIAN
METHOD:PUBLISH
X-WR-CALNAME:SciLifeLab
X-ORIGINAL-URL:https://www.scilifelab.se
X-WR-CALDESC:Events for SciLifeLab
REFRESH-INTERVAL;VALUE=DURATION:PT1H
X-Robots-Tag:noindex
X-PUBLISHED-TTL:PT1H
BEGIN:VTIMEZONE
TZID:Europe/Stockholm
BEGIN:DAYLIGHT
TZOFFSETFROM:+0100
TZOFFSETTO:+0200
TZNAME:CEST
DTSTART:20240331T010000
END:DAYLIGHT
BEGIN:STANDARD
TZOFFSETFROM:+0200
TZOFFSETTO:+0100
TZNAME:CET
DTSTART:20241027T010000
END:STANDARD
BEGIN:DAYLIGHT
TZOFFSETFROM:+0100
TZOFFSETTO:+0200
TZNAME:CEST
DTSTART:20250330T010000
END:DAYLIGHT
BEGIN:STANDARD
TZOFFSETFROM:+0200
TZOFFSETTO:+0100
TZNAME:CET
DTSTART:20251026T010000
END:STANDARD
BEGIN:DAYLIGHT
TZOFFSETFROM:+0100
TZOFFSETTO:+0200
TZNAME:CEST
DTSTART:20260329T010000
END:DAYLIGHT
BEGIN:STANDARD
TZOFFSETFROM:+0200
TZOFFSETTO:+0100
TZNAME:CET
DTSTART:20261025T010000
END:STANDARD
END:VTIMEZONE
BEGIN:VEVENT
DTSTART;TZID=Europe/Stockholm:20250221T100000
DTEND;TZID=Europe/Stockholm:20250221T110000
DTSTAMP:20260421T173606
CREATED:20250212T122415Z
LAST-MODIFIED:20250212T122416Z
UID:181334-1740132000-1740135600@www.scilifelab.se
SUMMARY:Policing secretion: cargo capture into ER-derived vesicles initiates secretion
DESCRIPTION:Visiting Professor Liz Miller from the Division of Molecular\, Cell and Developmental Biology\, School of Life Sciences\, University of Dundee\, Scotland UK\, will give a seminar at SciLifeLab Campus Solna. The  seminar should be of particular interest to cell and structural biologists interested in membrane associated processes operating during the early stages of the secretory pathway. \n\n\n\nBackground\n\n\n\nOne third of the proteins encoded in eukaryotic genomes pass through the secretory pathway\, entering via the endoplasmic reticulum (ER). The Miller lab has made pivotal contributions\, dissecting the molecular mechanisms operating during the early stages of ER-associated secretory protein biogenesis. Specifically\, the research has focused on understanding protein quality control and export from the ER. The lab has exploited the budding yeast\, Saccharomyces cerevisiae\, as a model system\, taking advantage of the full spectrum of biochemical\, genetic\, genomic and proteomic tools\, including cryo-EM. The research has defined mechanisms relevant to a number of human diseases\, most notably cystic fibrosis and similar diseases of protein misfolding. Recently\, the Miller lab has been examining how secretory cargo is selected for ER export in human cells\, which will be the focus of her talk here at SciLifeLab Campus Solna. \n\n\n\nBiography\n\n\n\nProfessor Liz Miller carried out her PhD in Melbourne\, Australia\, working on intracellular traffic of plant defence proteins. In 1999\, as a Jane Coffin Childs Postdoctoral Fellow\, she joined Randy Schekman’s lab (note: prior to his Nobel Prize awarded in 2013) at the University of California\, Berkeley. In the Schekman lab\, Liz established the mechanistic basis for capture of nascent secretory proteins into ER-derived COPII vesicles. In 2005 Liz established her independent lab at Columbia University in New York\, and after 10 years moved to become a Programme Leader/MRC Investigator at the MRC Laboratory of Molecular Biology in Cambridge\, where she maintains a small lab. In 2023\, Liz joined the Division of Molecular\, Cell and Developmental Biology within the School of Life Sciences in 2023. \n\n\n\nRead more\nhttps://www.dundee.ac.uk/people/liz-miller \n\n\n\n\nLiz Miller\n\n\n\n\n\n\n\n\n\nHost: Per Ljungdahl\, per.ljungdahl@scilifelab.se
URL:https://www.scilifelab.se/event/policing-secretion-cargo-capture-into-er-derived-vesicles-initiates-secretion/
LOCATION:Gamma 7 Lunchroom\, Tomtebodavägen 23A\, Solna\, 17121
CATEGORIES:Event
END:VEVENT
END:VCALENDAR