BEGIN:VCALENDAR
VERSION:2.0
PRODID:-//SciLifeLab - ECPv6.15.20//NONSGML v1.0//EN
CALSCALE:GREGORIAN
METHOD:PUBLISH
X-WR-CALNAME:SciLifeLab
X-ORIGINAL-URL:https://www.scilifelab.se
X-WR-CALDESC:Events for SciLifeLab
REFRESH-INTERVAL;VALUE=DURATION:PT1H
X-Robots-Tag:noindex
X-PUBLISHED-TTL:PT1H
BEGIN:VTIMEZONE
TZID:Europe/Stockholm
BEGIN:DAYLIGHT
TZOFFSETFROM:+0100
TZOFFSETTO:+0200
TZNAME:CEST
DTSTART:20230326T010000
END:DAYLIGHT
BEGIN:STANDARD
TZOFFSETFROM:+0200
TZOFFSETTO:+0100
TZNAME:CET
DTSTART:20231029T010000
END:STANDARD
BEGIN:DAYLIGHT
TZOFFSETFROM:+0100
TZOFFSETTO:+0200
TZNAME:CEST
DTSTART:20240331T010000
END:DAYLIGHT
BEGIN:STANDARD
TZOFFSETFROM:+0200
TZOFFSETTO:+0100
TZNAME:CET
DTSTART:20241027T010000
END:STANDARD
BEGIN:DAYLIGHT
TZOFFSETFROM:+0100
TZOFFSETTO:+0200
TZNAME:CEST
DTSTART:20250330T010000
END:DAYLIGHT
BEGIN:STANDARD
TZOFFSETFROM:+0200
TZOFFSETTO:+0100
TZNAME:CET
DTSTART:20251026T010000
END:STANDARD
END:VTIMEZONE
BEGIN:VEVENT
DTSTART;TZID=Europe/Stockholm:20240529T150000
DTEND;TZID=Europe/Stockholm:20240529T160000
DTSTAMP:20260422T072850
CREATED:20240515T144043Z
LAST-MODIFIED:20240522T074238Z
UID:167771-1716994800-1716998400@www.scilifelab.se
SUMMARY:Practical and theoretical considerations using digital sequencing in liquid biopsy analysis (SiMSen-seq)
DESCRIPTION:SiMSen-Seq is a core techonology that offers digital resolution with close to error-free sequencing and minimal quantification biases. This approach is flexible and easy to adapt to a wide range of applications\, such as detection of circulating tumor-DNA in essentially any tumor entity\, immune repertoire profiling\, and detection of environmental DNA. \n\n\n\nThe technology was invented by Prof. Anders Ståhlberg in collaboration with Tony Godfrey\, Boston University (Ståhlberg et al.\, Nat Protocol 2017: PMID: 28253235) and until now it has only been provided to selected research collaborators. To be able to offer this state-of-the-art technique nationwide and facilitate its introduction into healthcare  we are now integrating SiMSen-Seq as a research service into the SciLifeLab Clinical Genomics plafform. \n\n\n\nBefore the seminar\, there will be a mingling session with coffee and cake served in the Academicum foyer\, outside the lecture hall\, between 14:30-15:00. \n\n\n\nRead more
URL:https://www.scilifelab.se/event/practical-and-theoretical-considerations-using-digital-sequencing-in-liquid-biopsy-analysis-simsen-seq/
LOCATION:Arvid Carlsson Lecture Hall\, Sahlgrenska Academy\, University of Gothenburg\, Medicinaregatan 3\, Gothenburg\, Sweden
CATEGORIES:Event
ATTACH;FMTTYPE=image/png:https://www.scilifelab.se/wp-content/uploads/2024/05/SIMSen_Seq.png
ORGANIZER;CN="SciLifeLab Gothenburg":MAILTO:gothenburg@scilifelab.se
END:VEVENT
END:VCALENDAR