BEGIN:VCALENDAR
VERSION:2.0
PRODID:-//SciLifeLab - ECPv6.15.20//NONSGML v1.0//EN
CALSCALE:GREGORIAN
METHOD:PUBLISH
X-WR-CALNAME:SciLifeLab
X-ORIGINAL-URL:https://www.scilifelab.se
X-WR-CALDESC:Events for SciLifeLab
REFRESH-INTERVAL;VALUE=DURATION:PT1H
X-Robots-Tag:noindex
X-PUBLISHED-TTL:PT1H
BEGIN:VTIMEZONE
TZID:Europe/Stockholm
BEGIN:DAYLIGHT
TZOFFSETFROM:+0100
TZOFFSETTO:+0200
TZNAME:CEST
DTSTART:20230326T010000
END:DAYLIGHT
BEGIN:STANDARD
TZOFFSETFROM:+0200
TZOFFSETTO:+0100
TZNAME:CET
DTSTART:20231029T010000
END:STANDARD
BEGIN:DAYLIGHT
TZOFFSETFROM:+0100
TZOFFSETTO:+0200
TZNAME:CEST
DTSTART:20240331T010000
END:DAYLIGHT
BEGIN:STANDARD
TZOFFSETFROM:+0200
TZOFFSETTO:+0100
TZNAME:CET
DTSTART:20241027T010000
END:STANDARD
BEGIN:DAYLIGHT
TZOFFSETFROM:+0100
TZOFFSETTO:+0200
TZNAME:CEST
DTSTART:20250330T010000
END:DAYLIGHT
BEGIN:STANDARD
TZOFFSETFROM:+0200
TZOFFSETTO:+0100
TZNAME:CET
DTSTART:20251026T010000
END:STANDARD
END:VTIMEZONE
BEGIN:VEVENT
DTSTART;TZID=Europe/Stockholm:20241106T121500
DTEND;TZID=Europe/Stockholm:20241106T130000
DTSTAMP:20260421T210630
CREATED:20241018T123620Z
LAST-MODIFIED:20241028T142914Z
UID:174948-1730895300-1730898000@www.scilifelab.se
SUMMARY:Precisionsmedicin vid autoimmuna sjukdomar
DESCRIPTION:Välkommen till ett lunchseminarium om spännande framsteg inom Sjögrens sjukdom och MS som pågår här i Uppsala.  \n\n\n\nFör att kunna ge patienter med autoimmuna sjukdomar precisionsmedicin är det viktigt att identifiera undergrupper av patienter som löper risk att drabbas av svårare sjukdom och som kan ha bäst nytta av specifik behandling\, samt att genomföra nya behandlingar i kliniska studier. Vi lyfter framgångsrika exempel på detta inom Sjögrens sjukdom och MS i detta seminarium. \n\n\n\nProgram\n\n\n\nSjögrens sjukdom – ett steg mot precisionsmedicinGunnel Nordmark\, överläkare och professor i reumatologi\, Akademiska Sjukhuset\, Uppsala universitet \n\n\n\nAutolog blodstamcellstransplantation som behandling för MSJoachim Burman\, överläkare och docent i neurologi\, Akademiska Sjukhuset\, Uppsala universitet \n\n\n\nAlla registrerade bjuds på enklare lunchmacka och dryck. \n\n\n\nSeminariet är ett samarrangemang mellan Uppsala universitet\, Akademiska sjukhuset\, Region Uppsala och SciLifeLab. \n\n\n\nPrecision Medicine Centre Uppsala\n\n\n\nPrecisionsmedicin Akademiska\n\n\n\nSciLifeLab Capability Precision medicine\n\n\n\n\nPrecision Medicine
URL:https://www.scilifelab.se/event/precisionsmedicin-vid-autoimmuna-sjukdomar/
LOCATION:Hedstrandsalen | Ingång 70\, Akademiska sjukhuset\, Uppsala
CATEGORIES:Event
END:VEVENT
END:VCALENDAR