BEGIN:VCALENDAR
VERSION:2.0
PRODID:-//SciLifeLab - ECPv6.15.20//NONSGML v1.0//EN
CALSCALE:GREGORIAN
METHOD:PUBLISH
X-WR-CALNAME:SciLifeLab
X-ORIGINAL-URL:https://www.scilifelab.se
X-WR-CALDESC:Events for SciLifeLab
REFRESH-INTERVAL;VALUE=DURATION:PT1H
X-Robots-Tag:noindex
X-PUBLISHED-TTL:PT1H
BEGIN:VTIMEZONE
TZID:Europe/Stockholm
BEGIN:DAYLIGHT
TZOFFSETFROM:+0100
TZOFFSETTO:+0200
TZNAME:CEST
DTSTART:20230326T010000
END:DAYLIGHT
BEGIN:STANDARD
TZOFFSETFROM:+0200
TZOFFSETTO:+0100
TZNAME:CET
DTSTART:20231029T010000
END:STANDARD
BEGIN:DAYLIGHT
TZOFFSETFROM:+0100
TZOFFSETTO:+0200
TZNAME:CEST
DTSTART:20240331T010000
END:DAYLIGHT
BEGIN:STANDARD
TZOFFSETFROM:+0200
TZOFFSETTO:+0100
TZNAME:CET
DTSTART:20241027T010000
END:STANDARD
BEGIN:DAYLIGHT
TZOFFSETFROM:+0100
TZOFFSETTO:+0200
TZNAME:CEST
DTSTART:20250330T010000
END:DAYLIGHT
BEGIN:STANDARD
TZOFFSETFROM:+0200
TZOFFSETTO:+0100
TZNAME:CET
DTSTART:20251026T010000
END:STANDARD
END:VTIMEZONE
BEGIN:VEVENT
DTSTART;TZID=Europe/Stockholm:20240502T090000
DTEND;TZID=Europe/Stockholm:20240503T170000
DTSTAMP:20260422T123213
CREATED:20240313T114938Z
LAST-MODIFIED:20240404T123511Z
UID:165191-1714640400-1714755600@www.scilifelab.se
SUMMARY:Protistology Nordics Meeting 2024
DESCRIPTION:The Protistology Nordics 2024 will be held in Uppsala\, providing an opportunity for scientists in Nordic countries to come together and showcase their research on the genetics\, cell biology\, ecology\, and evolution of protists.The meeting is designed to facilitate vibrant discussions about the latest research in protistology\, social interaction\, and networking with fellow participants. \n\n\n\nThis meeting is sponsored by the Planetary Biology Capability. Apart from assisting the organizers\, the Capability is coordinating an interactive session to discuss opportunities and challenges to use SciLifeLab platforms. \n\n\n\n\n\n\n\nBrief Program\n\n\n\n2 May 2024Workshop for Early Career Researchers\, and Pub NightA workshop for Masters students\, PhD students\, and postdocs!3 May 2024Symposium on Protist Cell Biology\, Ecology\, and Evolution \n\n\n\nImportant dates\n\n\n\nRegistration and Abstract Submission Deadline: 25 March 2024Selected abstracts/Participants Will Be Notified By: 2 April 2024 \n\n\n\n\n\n\n\nRegister here!\n\n\n\nConference website
URL:https://www.scilifelab.se/event/protistology-nordics-meeting-2024/
LOCATION:Evolutionsbiologiskt centrum (EBC)\, Norbyvägen 18\, Uppsala\, Sweden
CATEGORIES:Event
ORGANIZER;CN="SciLifeLab Planetary Biology Strategic Area":MAILTO:anabella.aguilera@scilifelab.se
END:VEVENT
END:VCALENDAR