BEGIN:VCALENDAR
VERSION:2.0
PRODID:-//SciLifeLab - ECPv6.15.20//NONSGML v1.0//EN
CALSCALE:GREGORIAN
METHOD:PUBLISH
X-WR-CALNAME:SciLifeLab
X-ORIGINAL-URL:https://www.scilifelab.se
X-WR-CALDESC:Events for SciLifeLab
REFRESH-INTERVAL;VALUE=DURATION:PT1H
X-Robots-Tag:noindex
X-PUBLISHED-TTL:PT1H
BEGIN:VTIMEZONE
TZID:Europe/Stockholm
BEGIN:DAYLIGHT
TZOFFSETFROM:+0100
TZOFFSETTO:+0200
TZNAME:CEST
DTSTART:20250330T010000
END:DAYLIGHT
BEGIN:STANDARD
TZOFFSETFROM:+0200
TZOFFSETTO:+0100
TZNAME:CET
DTSTART:20251026T010000
END:STANDARD
BEGIN:DAYLIGHT
TZOFFSETFROM:+0100
TZOFFSETTO:+0200
TZNAME:CEST
DTSTART:20260329T010000
END:DAYLIGHT
BEGIN:STANDARD
TZOFFSETFROM:+0200
TZOFFSETTO:+0100
TZNAME:CET
DTSTART:20261025T010000
END:STANDARD
BEGIN:DAYLIGHT
TZOFFSETFROM:+0100
TZOFFSETTO:+0200
TZNAME:CEST
DTSTART:20270328T010000
END:DAYLIGHT
BEGIN:STANDARD
TZOFFSETFROM:+0200
TZOFFSETTO:+0100
TZNAME:CET
DTSTART:20271031T010000
END:STANDARD
END:VTIMEZONE
BEGIN:VEVENT
DTSTART;TZID=Europe/Stockholm:20260303T150000
DTEND;TZID=Europe/Stockholm:20260303T160000
DTSTAMP:20260420T184128
CREATED:20260203T134458Z
LAST-MODIFIED:20260203T134500Z
UID:194200-1772550000-1772553600@www.scilifelab.se
SUMMARY:PULSE Challenge: Brain delivery platform for large drug modalities
DESCRIPTION:Brain uptake of therapeutic modalities such as antibodies\, enzymes and other types of drug modalities is severely limited by their size due to the blood brain barrier (BBB). To address this issue\, we have developed the BrainTransporterTM (BT) technology to actively transport these molecules across the BBB using receptor-mediated transcytosis. Our technology is engineered using structural data as guidance to engage with a BBB receptor at an optimal site. \n\n\n\nHost: Per I ArvidssonModerator: Anna Ridderstad Wollberg \n\n\n\nThe seminar series PULSE Challenge is connected to the MSCA co-funded* postdoctoral program SciLifeLab PULSE\, that will train 48 future leaders in life sciences. The program focuses on innovative\, fundamental and translational research carried out in supportive and diverse academic and industrial environments\, preparing postdocs with necessary skills for long-term career sustainability. Click HERE to find out more about SciLifeLab PULSE \n\n\n\n\n\n\n\nOn-line event via Zoom \n\n\n\nRegister Here\n\n\n\n\n\n\n\n\n\n\n\n\n\nPresenter: Per-Ola Freskgård  \n\n\n\nBiography:Per-Ola Freskgård is currently Chief Scientific Officer at BioArctic AB and a member of the Research & Development Leadership Team. Per-Ola previously served as vice Director & Distinguished Scientist within the Roche Neuroscience Discovery organization in Switzerland responsible for preclinical development of the Brain Shuttle delivery technology of biologics\, which is now in clinical testing. Prior to that\, he held a Section Head position in early and late discovery at AstraZeneca within the Neuroscience area and a member of the Technology Research Review Committee within the Medimmune and AstraZeneca organizations. Before joining AstraZeneca\, Per-Ola served as Vice President and a member of the Executive Management Team at Nuevolution A/S and a co-inventor of the Chemetics technology. Prior to this\, Per-Ola was a Project Manager at Maxygen responsible for research programs of antibody mimetics and a co-inventor of the Maxybody concept. Prior to that\, Per-Ola was Head of the Discovery Research Department in the therapeutics division at Novo Nordisk A/S. Per-Ola conducted his post-doctoral fellowship in Professor Frances Arnold’s lab at the California Institute of Technology. He holds a Ph.D. in Protein Biochemistry from Linköping University\, Sweden. Authored and co-authored more than 80 per-reviewed publications and patent applications
URL:https://www.scilifelab.se/event/pulse-challenge-brain-delivery-platform-for-large-drug-modalities/
LOCATION:Online event via Zoom
CATEGORIES:Event
ATTACH;FMTTYPE=image/png:https://www.scilifelab.se/wp-content/uploads/2025/02/Bild1-e1770905208628.png
END:VEVENT
END:VCALENDAR