BEGIN:VCALENDAR
VERSION:2.0
PRODID:-//SciLifeLab - ECPv6.15.20//NONSGML v1.0//EN
CALSCALE:GREGORIAN
METHOD:PUBLISH
X-WR-CALNAME:SciLifeLab
X-ORIGINAL-URL:https://www.scilifelab.se
X-WR-CALDESC:Events for SciLifeLab
REFRESH-INTERVAL;VALUE=DURATION:PT1H
X-Robots-Tag:noindex
X-PUBLISHED-TTL:PT1H
BEGIN:VTIMEZONE
TZID:Europe/Stockholm
BEGIN:DAYLIGHT
TZOFFSETFROM:+0100
TZOFFSETTO:+0200
TZNAME:CEST
DTSTART:20230326T010000
END:DAYLIGHT
BEGIN:STANDARD
TZOFFSETFROM:+0200
TZOFFSETTO:+0100
TZNAME:CET
DTSTART:20231029T010000
END:STANDARD
BEGIN:DAYLIGHT
TZOFFSETFROM:+0100
TZOFFSETTO:+0200
TZNAME:CEST
DTSTART:20240331T010000
END:DAYLIGHT
BEGIN:STANDARD
TZOFFSETFROM:+0200
TZOFFSETTO:+0100
TZNAME:CET
DTSTART:20241027T010000
END:STANDARD
BEGIN:DAYLIGHT
TZOFFSETFROM:+0100
TZOFFSETTO:+0200
TZNAME:CEST
DTSTART:20250330T010000
END:DAYLIGHT
BEGIN:STANDARD
TZOFFSETFROM:+0200
TZOFFSETTO:+0100
TZNAME:CET
DTSTART:20251026T010000
END:STANDARD
END:VTIMEZONE
BEGIN:VEVENT
DTSTART;TZID=Europe/Stockholm:20241108T120000
DTEND;TZID=Europe/Stockholm:20241108T130000
DTSTAMP:20260421T211708
CREATED:20240930T054903Z
LAST-MODIFIED:20241106T070829Z
UID:173446-1731067200-1731070800@www.scilifelab.se
SUMMARY:Pushing the boundaries of performance with the next generation of single cell solutions
DESCRIPTION:Imagine seeing biology in new ways! Join this joint seminar between 10x Genomics and Clinical Genomics Gothenburg where Johanna Stergiadou\, Science & Technology Advisor at10x Genomics\, explains how the Chromium Single Cell solutions can help push the boundaries of your research.\n\n\n\nThe vast complexities of biology require approaches that build a complete picture from single cells to tissues and beyond. Single cell analysis is a powerful technique to characterize complex tissue types\, identify rare cell populations\, uncover regulatory relationships between genes\, and track cell trajectories. \n\n\n\nJoin us for this seminar to learn how Chromium Single Cell solutions from 10x Genomics can help you push the boundaries of your research. Dissect cell-type differences\, investigate the innate and adaptive immune system\, detect novel subtypes and biomarkers\, and map the epigenetic landscape cell by cell. Uncover molecular insights from fresh or fixed samples\, including FFPE\, with robust\, flexible workflows that simplify experimental logistics. Unravel highly complex biological systems\, while bringing into focus the details that matter most. \n\n\n\n\nregistration\n\n\n\n\n \n\n\n\nLunch will be provided for onsite participation.Onsite registration deadline: November 5 \n\n\n\n\nZoom link
URL:https://www.scilifelab.se/event/pushing-the-boundaries-of-performance-with-the-next-generation-of-single-cell-solutions/
LOCATION:Birgit Thilander Lecture Hall\, Medicinaregatan 3\, Göteborg
CATEGORIES:Event
ATTACH;FMTTYPE=image/png:https://www.scilifelab.se/wp-content/uploads/2024/09/Banner_crop2.png
END:VEVENT
END:VCALENDAR