BEGIN:VCALENDAR
VERSION:2.0
PRODID:-//SciLifeLab - ECPv6.15.20//NONSGML v1.0//EN
CALSCALE:GREGORIAN
METHOD:PUBLISH
X-WR-CALNAME:SciLifeLab
X-ORIGINAL-URL:https://www.scilifelab.se
X-WR-CALDESC:Events for SciLifeLab
REFRESH-INTERVAL;VALUE=DURATION:PT1H
X-Robots-Tag:noindex
X-PUBLISHED-TTL:PT1H
BEGIN:VTIMEZONE
TZID:Europe/Stockholm
BEGIN:DAYLIGHT
TZOFFSETFROM:+0100
TZOFFSETTO:+0200
TZNAME:CEST
DTSTART:20230326T010000
END:DAYLIGHT
BEGIN:STANDARD
TZOFFSETFROM:+0200
TZOFFSETTO:+0100
TZNAME:CET
DTSTART:20231029T010000
END:STANDARD
BEGIN:DAYLIGHT
TZOFFSETFROM:+0100
TZOFFSETTO:+0200
TZNAME:CEST
DTSTART:20240331T010000
END:DAYLIGHT
BEGIN:STANDARD
TZOFFSETFROM:+0200
TZOFFSETTO:+0100
TZNAME:CET
DTSTART:20241027T010000
END:STANDARD
BEGIN:DAYLIGHT
TZOFFSETFROM:+0100
TZOFFSETTO:+0200
TZNAME:CEST
DTSTART:20250330T010000
END:DAYLIGHT
BEGIN:STANDARD
TZOFFSETFROM:+0200
TZOFFSETTO:+0100
TZNAME:CET
DTSTART:20251026T010000
END:STANDARD
END:VTIMEZONE
BEGIN:VEVENT
DTSTART;TZID=Europe/Stockholm:20240926T113000
DTEND;TZID=Europe/Stockholm:20240926T133000
DTSTAMP:20260422T001126
CREATED:20240905T110109Z
LAST-MODIFIED:20240910T082704Z
UID:172533-1727350200-1727357400@www.scilifelab.se
SUMMARY:Scalable\, Accessible Single Cell with Parse Biosciences' Evercode
DESCRIPTION:Join Us for a Seminar on Single-cell RNA Sequencing (scRNA-seq)\n\n\n\nSingle-cell RNA sequencing (scRNA-seq) has become a key tool in genomics\, offering researchers deep insights into cellular behavior. While droplet-based methods are commonly used\, they often come with limitations in flexibility\, cost\, and scalability. Parse Biosciences’ Evercode technology offers a solution\, enabling scalable single-cell sequencing without the need for specialized equipment. \n\n\n\nThis seminar\, co-hosted by Clinical Genomics Gothenburg (CGG) and Parse Biosciences\, will feature: \n\n\n\n\nIntroduction to Evercode Technology by Parse Biosciences\, including practical tips for sample preparation and analysis.\n\n\n\nUser Perspective Presentation by Joan Camuñas\, Dept of Medical Biochemistry and Cell biology\n\n\n\nResearch Support Overview by CGG\, where researchers can get support with experimental design\, lab work\, and data analysis for single-cell projects.\n\n\n\n\n\nMore information and registration\n\n\n\n\nLunch will be provided for onsite participation.Registration deadline: September 23 \n\n\n\nNo registration is required for online participation: \n\n\n\n\nZoom link
URL:https://www.scilifelab.se/event/scalable-accessible-single-cell-with-parse-biosciences-evercode/
LOCATION:Birgit Thilander Lecture Hall\, Medicinaregatan 3\, Göteborg
CATEGORIES:Event
END:VEVENT
END:VCALENDAR