BEGIN:VCALENDAR
VERSION:2.0
PRODID:-//SciLifeLab - ECPv6.15.20//NONSGML v1.0//EN
CALSCALE:GREGORIAN
METHOD:PUBLISH
X-WR-CALNAME:SciLifeLab
X-ORIGINAL-URL:https://www.scilifelab.se
X-WR-CALDESC:Events for SciLifeLab
REFRESH-INTERVAL;VALUE=DURATION:PT1H
X-Robots-Tag:noindex
X-PUBLISHED-TTL:PT1H
BEGIN:VTIMEZONE
TZID:Europe/Stockholm
BEGIN:DAYLIGHT
TZOFFSETFROM:+0100
TZOFFSETTO:+0200
TZNAME:CEST
DTSTART:20230326T010000
END:DAYLIGHT
BEGIN:STANDARD
TZOFFSETFROM:+0200
TZOFFSETTO:+0100
TZNAME:CET
DTSTART:20231029T010000
END:STANDARD
BEGIN:DAYLIGHT
TZOFFSETFROM:+0100
TZOFFSETTO:+0200
TZNAME:CEST
DTSTART:20240331T010000
END:DAYLIGHT
BEGIN:STANDARD
TZOFFSETFROM:+0200
TZOFFSETTO:+0100
TZNAME:CET
DTSTART:20241027T010000
END:STANDARD
BEGIN:DAYLIGHT
TZOFFSETFROM:+0100
TZOFFSETTO:+0200
TZNAME:CEST
DTSTART:20250330T010000
END:DAYLIGHT
BEGIN:STANDARD
TZOFFSETFROM:+0200
TZOFFSETTO:+0100
TZNAME:CET
DTSTART:20251026T010000
END:STANDARD
END:VTIMEZONE
BEGIN:VEVENT
DTSTART;TZID=Europe/Stockholm:20241211T083000
DTEND;TZID=Europe/Stockholm:20241211T153000
DTSTAMP:20260421T192356
CREATED:20241024T060207Z
LAST-MODIFIED:20241121T102250Z
UID:175186-1733905800-1733931000@www.scilifelab.se
SUMMARY:SciLifeLab & AAAS/Science Publishing Workshop for Junior Researchers 2024
DESCRIPTION:Applications are now welcome for participation in this highly regarded and rewarding interactive workshop by Science and SciLifeLab. Designed for early career researchers (PhD students and postdocs) in SciLifeLab:s research community\, the workshop focuses on the publishing landscape\, paper preparation\, and the publication process. \n\n\n\n\n\n\n\nWorkshop leaders: \n\n\n\n\nValda Vinson (Executive Editor\, Science Magazine)\n\n\n\nSacha Vignieri (Deputy Editor Research\, Science Magazine)\n\n\n\n\nThe workshop is split into a hybrid morning session\, and an afternoon on-site workshop (see Curriculum for details). Questions from the participants will be addressed by the Editors in generous Q&A sessions.  \n\n\n\nOn-site participation\, including lunch and coffee breaks with the Editors\, is limited to 40 participants. Participants for the on-site workshop will be selected after the application deadline\, with consideration for gender balance\, affilitation (with aim to distribute workshop spots nationally and across all universities)\, and in case of equivalent applications\, date of application (first come\, first serve basis). \n\n\n\nDeadline for application: November 27 \n\n\n\nApply here
URL:https://www.scilifelab.se/event/scilifelab-aaas-science-publishing-workshop-for-junior-researchers-2024/
LOCATION:Air&Fire\, SciLifeLab Stockholm\, Tomtebodavägen 23A\, Solna\, Sweden
CATEGORIES:Event
ORGANIZER;CN="SciLifeLab Event":MAILTO:events@scilifelab.se
END:VEVENT
END:VCALENDAR