BEGIN:VCALENDAR
VERSION:2.0
PRODID:-//SciLifeLab - ECPv6.15.20//NONSGML v1.0//EN
CALSCALE:GREGORIAN
METHOD:PUBLISH
X-WR-CALNAME:SciLifeLab
X-ORIGINAL-URL:https://www.scilifelab.se
X-WR-CALDESC:Events for SciLifeLab
REFRESH-INTERVAL;VALUE=DURATION:PT1H
X-Robots-Tag:noindex
X-PUBLISHED-TTL:PT1H
BEGIN:VTIMEZONE
TZID:Europe/Stockholm
BEGIN:DAYLIGHT
TZOFFSETFROM:+0100
TZOFFSETTO:+0200
TZNAME:CEST
DTSTART:20250330T010000
END:DAYLIGHT
BEGIN:STANDARD
TZOFFSETFROM:+0200
TZOFFSETTO:+0100
TZNAME:CET
DTSTART:20251026T010000
END:STANDARD
BEGIN:DAYLIGHT
TZOFFSETFROM:+0100
TZOFFSETTO:+0200
TZNAME:CEST
DTSTART:20260329T010000
END:DAYLIGHT
BEGIN:STANDARD
TZOFFSETFROM:+0200
TZOFFSETTO:+0100
TZNAME:CET
DTSTART:20261025T010000
END:STANDARD
BEGIN:DAYLIGHT
TZOFFSETFROM:+0100
TZOFFSETTO:+0200
TZNAME:CEST
DTSTART:20270328T010000
END:DAYLIGHT
BEGIN:STANDARD
TZOFFSETFROM:+0200
TZOFFSETTO:+0100
TZNAME:CET
DTSTART:20271031T010000
END:STANDARD
END:VTIMEZONE
BEGIN:VEVENT
DTSTART;TZID=Europe/Stockholm:20260511T083000
DTEND;TZID=Europe/Stockholm:20260511T170000
DTSTAMP:20260420T153232
CREATED:20260202T132926Z
LAST-MODIFIED:20260205T142755Z
UID:193371-1778488200-1778518800@www.scilifelab.se
SUMMARY:SciLifeLab Infrastructure Day site Umeå
DESCRIPTION:Join us! 11 May \n\n\n\n\n\n\n\nWelcome to Infrastructure Day\, hosted by SciLifeLab Umeå. We bring together research infrastructures from Umeå University’s Faculties of Science and Technology and Medicine\, as well as SLU and the University Hospital\, to connect with researchers\, explore cutting-edge technologies\, share expertise\, and strengthen collaboration in northern Sweden \n\n\n\nAbout the event \n\n\n\nA full-day gathering for all scientists to explore research infrastructure opportunities\, share expertise\, and connect across Umeå’s life science. Learn more about national research infrastructures and the SciLifeLab platforms across Sweden\, through personal meetings with our local staff scientists. Be part of collaboration with research infrastructures and SciLifeLab capabilities to drive life science in Sweden. \n\n\n\nEvent highlights include:Future outlook of SciLifeLab site Umeå Presentations from national and local research infrastructure unitsFocus on bridging science and technology developmentData managment pannel discussionInfrastructure poster exhibitions\, mingling and engaging infrastructure presentations \n\n\n\nRegistration \n\n\n\n\nRegistration\n\n\n\n\nRegistration deadline: April 27\, 2026 \n\n\n\nThis event is free of charge\, but please note that a fee of 500 SEK will be charged in case of no-shows without prior notice.For those who wish to present posters\, any costs related to poster board hire may be charged if the poster board is left empty on the day of the event.
URL:https://www.scilifelab.se/event/scilifelab-infrastructure-day-site-umea/
LOCATION:Rotundan\, Umeå University\, Universums Gränd 4\, Umeå\, Sweden
END:VEVENT
END:VCALENDAR