BEGIN:VCALENDAR
VERSION:2.0
PRODID:-//SciLifeLab - ECPv6.15.20//NONSGML v1.0//EN
CALSCALE:GREGORIAN
METHOD:PUBLISH
X-WR-CALNAME:SciLifeLab
X-ORIGINAL-URL:https://www.scilifelab.se
X-WR-CALDESC:Events for SciLifeLab
REFRESH-INTERVAL;VALUE=DURATION:PT1H
X-Robots-Tag:noindex
X-PUBLISHED-TTL:PT1H
BEGIN:VTIMEZONE
TZID:Europe/Stockholm
BEGIN:DAYLIGHT
TZOFFSETFROM:+0100
TZOFFSETTO:+0200
TZNAME:CEST
DTSTART:20240331T010000
END:DAYLIGHT
BEGIN:STANDARD
TZOFFSETFROM:+0200
TZOFFSETTO:+0100
TZNAME:CET
DTSTART:20241027T010000
END:STANDARD
BEGIN:DAYLIGHT
TZOFFSETFROM:+0100
TZOFFSETTO:+0200
TZNAME:CEST
DTSTART:20250330T010000
END:DAYLIGHT
BEGIN:STANDARD
TZOFFSETFROM:+0200
TZOFFSETTO:+0100
TZNAME:CET
DTSTART:20251026T010000
END:STANDARD
BEGIN:DAYLIGHT
TZOFFSETFROM:+0100
TZOFFSETTO:+0200
TZNAME:CEST
DTSTART:20260329T010000
END:DAYLIGHT
BEGIN:STANDARD
TZOFFSETFROM:+0200
TZOFFSETTO:+0100
TZNAME:CET
DTSTART:20261025T010000
END:STANDARD
END:VTIMEZONE
BEGIN:VEVENT
DTSTART;TZID=Europe/Stockholm:20250114T150000
DTEND;TZID=Europe/Stockholm:20250114T160000
DTSTAMP:20260421T173605
CREATED:20241112T105230Z
LAST-MODIFIED:20250110T150619Z
UID:176152-1736866800-1736870400@www.scilifelab.se
SUMMARY:SciLifeLab Lund Seminar Series | Clinical Genomics Lund
DESCRIPTION:Welcome to the SciLifeLab Lund seminar series! \n\n\n\nThese seminars are designed to highlight SciLifeLab Lund\, our cutting-edge research infrastructure\, and the diverse resources available to the scientific community.  \n\n\n\nIn the 3rd seminar\, we will have a in-depth look at the Center Translational Genomics (CTG) within SciLifeLab Clinical Genomics\, a research infrastructure and technical platform for Next Generation Sequencing and other genomics technologies. CTG expertise and services promote translational research projects or projects aiming at clinical implementation of new diagnostic assays in healthcare. \n\n\n\nAfter a brief introduction of the unit by Julia Bräunig\, research engineer at CTG\, Ervin Ascic (Division of Molecular Medicine and Gene Therapy at Lund University) will present his talk “Reprogramming Solid Tumors into Dendritic Cells for Cancer Immunotherapy”. \n\n\n\nPlease note that the seminars are site only but the recordings are available HERE. \n\n\n\nRegistration\n\n\n\nRegister for the next seminars!\n\n\n\n29th January 2025 | CryoEM for Life Sciences at Lund University \n\n\n\nRegister Seminar January\n\n\n\n26th February 2025 | Display and Selection Technologies \n\n\n\nRegister Seminar February\n\n\n\n26th March 2025 | Lund University Bioimaging Centre (LBIC)  \n\n\n\nRegister Seminar March\n\n\n\n23rd April 2025 | Lund Protein Production Platform \n\n\n\nRegister Seminar April\n\n\n\n28th May 2025 | National Bioinformatics Infrastructure (NBIS) \n\n\n\nRegister Seminar May\n\n\n\n18th June | Structural Proteomics \n\n\n\nRegister Seminar June
URL:https://www.scilifelab.se/event/scilifelab-lund-seminar-series-ctg/
LOCATION:Belfragesalen\, BMC D15\, Klinikgatan 32\, Lund\, Sweden
CATEGORIES:Event
ORGANIZER;CN="SciLifeLab Lund":MAILTO:lund@scilifelab.se
END:VEVENT
END:VCALENDAR