BEGIN:VCALENDAR
VERSION:2.0
PRODID:-//SciLifeLab - ECPv6.15.20//NONSGML v1.0//EN
CALSCALE:GREGORIAN
METHOD:PUBLISH
X-WR-CALNAME:SciLifeLab
X-ORIGINAL-URL:https://www.scilifelab.se
X-WR-CALDESC:Events for SciLifeLab
REFRESH-INTERVAL;VALUE=DURATION:PT1H
X-Robots-Tag:noindex
X-PUBLISHED-TTL:PT1H
BEGIN:VTIMEZONE
TZID:Europe/Stockholm
BEGIN:DAYLIGHT
TZOFFSETFROM:+0100
TZOFFSETTO:+0200
TZNAME:CEST
DTSTART:20240331T010000
END:DAYLIGHT
BEGIN:STANDARD
TZOFFSETFROM:+0200
TZOFFSETTO:+0100
TZNAME:CET
DTSTART:20241027T010000
END:STANDARD
BEGIN:DAYLIGHT
TZOFFSETFROM:+0100
TZOFFSETTO:+0200
TZNAME:CEST
DTSTART:20250330T010000
END:DAYLIGHT
BEGIN:STANDARD
TZOFFSETFROM:+0200
TZOFFSETTO:+0100
TZNAME:CET
DTSTART:20251026T010000
END:STANDARD
BEGIN:DAYLIGHT
TZOFFSETFROM:+0100
TZOFFSETTO:+0200
TZNAME:CEST
DTSTART:20260329T010000
END:DAYLIGHT
BEGIN:STANDARD
TZOFFSETFROM:+0200
TZOFFSETTO:+0100
TZNAME:CET
DTSTART:20261025T010000
END:STANDARD
END:VTIMEZONE
BEGIN:VEVENT
DTSTART;TZID=Europe/Stockholm:20250226T150000
DTEND;TZID=Europe/Stockholm:20250226T160000
DTSTAMP:20260420T171246
CREATED:20250212T121850Z
LAST-MODIFIED:20250212T123251Z
UID:181335-1740582000-1740585600@www.scilifelab.se
SUMMARY:SciLifeLab Lund Seminar Series | DST
DESCRIPTION:Welcome to the SciLifeLab Lund seminar series! \n\n\n\nThese seminars are designed to highlight SciLifeLab Lund\, our cutting-edge research infrastructure\, and the diverse resources available to the scientific community.  \n\n\n\nIn the 5th seminar\, we will have a look into the Display & Selection Technologies unit (DST) which is part of the SciLifeLab Drug Discovery & Development platform. The DST unit supports the development of therapeutic antibodies and single domain antibodies.  \n\n\n\nMikael Mattsson (DST’s Head of Unit) will present the unit\, and Carl Sandén (Division of Clinical Genetics at Lund University) will will showcase a project carried out in collaboration with the facility.  \n\n\n\nPlease note that the seminars are site only but the recordings are available HERE. \n\n\n\nRegistration\n\n\n\nRegister for the next seminars!\n\n\n\n26th March 2025 | Lund University Bioimaging Centre (LBIC)  \n\n\n\nRegister Seminar March\n\n\n\n23rd April 2025 | Lund Protein Production Platform \n\n\n\nRegister Seminar April\n\n\n\n28th May 2025 | National Bioinformatics Infrastructure (NBIS) \n\n\n\nRegister Seminar May\n\n\n\n18th June | Structural Proteomics \n\n\n\nRegister Seminar June
URL:https://www.scilifelab.se/event/scilifelab-lund-seminar-series-dst/
LOCATION:Belfragesalen\, BMC D15\, Klinikgatan 32\, Lund\, Sweden
CATEGORIES:Event
ORGANIZER;CN="SciLifeLab Lund":MAILTO:lund@scilifelab.se
END:VEVENT
END:VCALENDAR