BEGIN:VCALENDAR
VERSION:2.0
PRODID:-//SciLifeLab - ECPv6.15.20//NONSGML v1.0//EN
CALSCALE:GREGORIAN
METHOD:PUBLISH
X-WR-CALNAME:SciLifeLab
X-ORIGINAL-URL:https://www.scilifelab.se
X-WR-CALDESC:Events for SciLifeLab
REFRESH-INTERVAL;VALUE=DURATION:PT1H
X-Robots-Tag:noindex
X-PUBLISHED-TTL:PT1H
BEGIN:VTIMEZONE
TZID:Europe/Stockholm
BEGIN:DAYLIGHT
TZOFFSETFROM:+0100
TZOFFSETTO:+0200
TZNAME:CEST
DTSTART:20240331T010000
END:DAYLIGHT
BEGIN:STANDARD
TZOFFSETFROM:+0200
TZOFFSETTO:+0100
TZNAME:CET
DTSTART:20241027T010000
END:STANDARD
BEGIN:DAYLIGHT
TZOFFSETFROM:+0100
TZOFFSETTO:+0200
TZNAME:CEST
DTSTART:20250330T010000
END:DAYLIGHT
BEGIN:STANDARD
TZOFFSETFROM:+0200
TZOFFSETTO:+0100
TZNAME:CET
DTSTART:20251026T010000
END:STANDARD
BEGIN:DAYLIGHT
TZOFFSETFROM:+0100
TZOFFSETTO:+0200
TZNAME:CEST
DTSTART:20260329T010000
END:DAYLIGHT
BEGIN:STANDARD
TZOFFSETFROM:+0200
TZOFFSETTO:+0100
TZNAME:CET
DTSTART:20261025T010000
END:STANDARD
END:VTIMEZONE
BEGIN:VEVENT
DTSTART;TZID=Europe/Stockholm:20250526T090000
DTEND;TZID=Europe/Stockholm:20250526T170000
DTSTAMP:20260421T092351
CREATED:20250507T092724Z
LAST-MODIFIED:20250523T065343Z
UID:185874-1748250000-1748278800@www.scilifelab.se
SUMMARY:SciLifeLab Uppsala Spring Mini-Symposium
DESCRIPTION:We’re thrilled to invite you to our first-ever SciLifeLab and DDLS Fellow/Alumni organized SciLifeLab Uppsala Spring Mini-Symposium in Navet\, BMC\, on the 26th of May. A full day dedicated to inspiring scientific talks\, meaningful interactions\, and collaborative discussions. \n\n\n\nJoin us as we explore how shared science can help strengthen connections across departments and universities. (Spots are limited to 90p.) \n\n\n\nPhD students and postdocs are especially encouraged to attend – it’s an excellent opportunity to expand your network and spark future collaborations! \n\n\n\nPhD/Postdoc\, you are welcome to present a poster. Reusing a recent poster is OK! \n\n\n\n \n\n\n\nWelcome! \n\n\n\nThe organizing team \n\n\n\nWojciech Michno\, Luisa Hugerth and Marcel Tarbier \n\n\n\nRegistration\n\n\n\nSchedule SciLifeLab Uppsala Spring Mini-Symposium v2Download
URL:https://www.scilifelab.se/event/scilifelab-uppsala-spring-mini-symposium/
LOCATION:Navet\, SciLifeLab Uppsala\, SciLifeLab Uppsala\, BMC C11\, Husargatan 3\, Uppsala\, 75237\, Sweden
CATEGORIES:Community
ATTACH;FMTTYPE=image/jpeg:https://www.scilifelab.se/wp-content/uploads/2020/05/w2a5147-scaled.jpg
ORGANIZER;CN="SciLifeLab Uppsala Fellows":MAILTO:events@scilifelab.se
END:VEVENT
END:VCALENDAR