BEGIN:VCALENDAR
VERSION:2.0
PRODID:-//SciLifeLab - ECPv6.15.20//NONSGML v1.0//EN
CALSCALE:GREGORIAN
METHOD:PUBLISH
X-WR-CALNAME:SciLifeLab
X-ORIGINAL-URL:https://www.scilifelab.se
X-WR-CALDESC:Events for SciLifeLab
REFRESH-INTERVAL;VALUE=DURATION:PT1H
X-Robots-Tag:noindex
X-PUBLISHED-TTL:PT1H
BEGIN:VTIMEZONE
TZID:Europe/Stockholm
BEGIN:DAYLIGHT
TZOFFSETFROM:+0100
TZOFFSETTO:+0200
TZNAME:CEST
DTSTART:20230326T010000
END:DAYLIGHT
BEGIN:STANDARD
TZOFFSETFROM:+0200
TZOFFSETTO:+0100
TZNAME:CET
DTSTART:20231029T010000
END:STANDARD
BEGIN:DAYLIGHT
TZOFFSETFROM:+0100
TZOFFSETTO:+0200
TZNAME:CEST
DTSTART:20240331T010000
END:DAYLIGHT
BEGIN:STANDARD
TZOFFSETFROM:+0200
TZOFFSETTO:+0100
TZNAME:CET
DTSTART:20241027T010000
END:STANDARD
BEGIN:DAYLIGHT
TZOFFSETFROM:+0100
TZOFFSETTO:+0200
TZNAME:CEST
DTSTART:20250330T010000
END:DAYLIGHT
BEGIN:STANDARD
TZOFFSETFROM:+0200
TZOFFSETTO:+0100
TZNAME:CET
DTSTART:20251026T010000
END:STANDARD
END:VTIMEZONE
BEGIN:VEVENT
DTSTART;TZID=Europe/Stockholm:20240416T150000
DTEND;TZID=Europe/Stockholm:20240416T160000
DTSTAMP:20260422T141318
CREATED:20240305T103431Z
LAST-MODIFIED:20240326T124907Z
UID:164298-1713279600-1713283200@www.scilifelab.se
SUMMARY:Sequenceable DNA tools for Medicine: Transcriptomics and Antibody alternatives
DESCRIPTION:Spotlight Seminar series presents Erik Benson\, SciLifeLab Fellow at Karolinska Institutet \n\n\n\nErik Benson is a SciLifeLab Fellow at the department of Microbiology\, Tumor and Cell Biology at KI since January 2024. He is working on combining DNA structures with sequencing and selection. He previously held postdoc positions at the department of Physics\, University of Oxford and the department of Gene Technology at KTH. He did his PhD at Karolinska Institute and MSc in medical physics in Lund. \n\n\n\nHost: Jean Hausser\, KI
URL:https://www.scilifelab.se/event/sequenceable-dna-tools-for-medicine-transcriptomics-and-antibody-alternatives/
LOCATION:Air&Fire\, SciLifeLab Stockholm\, Tomtebodavägen 23A\, Solna\, Sweden
CATEGORIES:Event
ATTACH;FMTTYPE=image/jpeg:https://www.scilifelab.se/wp-content/uploads/2023/10/Campus-solna-seminar-picture.jpg
ORGANIZER;CN="Spotlight Seminar Series":MAILTO:events@scilifelab.se
END:VEVENT
END:VCALENDAR